BEGIN:VCALENDAR
VERSION:2.0
PRODID:-//National Western Center - ECPv6.15.16//NONSGML v1.0//EN
CALSCALE:GREGORIAN
METHOD:PUBLISH
X-WR-CALNAME:National Western Center
X-ORIGINAL-URL:https://nationalwesterncenter.com
X-WR-CALDESC:Events for National Western Center
REFRESH-INTERVAL;VALUE=DURATION:PT1H
X-Robots-Tag:noindex
X-PUBLISHED-TTL:PT1H
BEGIN:VTIMEZONE
TZID:America/Denver
BEGIN:DAYLIGHT
TZOFFSETFROM:-0700
TZOFFSETTO:-0600
TZNAME:MDT
DTSTART:20250309T090000
END:DAYLIGHT
BEGIN:STANDARD
TZOFFSETFROM:-0600
TZOFFSETTO:-0700
TZNAME:MST
DTSTART:20251102T080000
END:STANDARD
BEGIN:DAYLIGHT
TZOFFSETFROM:-0700
TZOFFSETTO:-0600
TZNAME:MDT
DTSTART:20260308T090000
END:DAYLIGHT
BEGIN:STANDARD
TZOFFSETFROM:-0600
TZOFFSETTO:-0700
TZNAME:MST
DTSTART:20261101T080000
END:STANDARD
BEGIN:DAYLIGHT
TZOFFSETFROM:-0700
TZOFFSETTO:-0600
TZNAME:MDT
DTSTART:20270314T090000
END:DAYLIGHT
BEGIN:STANDARD
TZOFFSETFROM:-0600
TZOFFSETTO:-0700
TZNAME:MST
DTSTART:20271107T080000
END:STANDARD
END:VTIMEZONE
BEGIN:VEVENT
DTSTART;VALUE=DATE:20260421
DTEND;VALUE=DATE:20260424
DTSTAMP:20260421T095326
CREATED:20260210T214134Z
LAST-MODIFIED:20260210T214134Z
UID:10004019-1776729600-1776988799@nationalwesterncenter.com
SUMMARY:Private Event
DESCRIPTION:
URL:https://nationalwesterncenter.com/event/private-event-33/
END:VEVENT
BEGIN:VEVENT
DTSTART;TZID=America/Denver:20260422T170000
DTEND;TZID=America/Denver:20260422T190000
DTSTAMP:20260421T095326
CREATED:20260127T195102Z
LAST-MODIFIED:20260127T195102Z
UID:10003909-1776877200-1776884400@nationalwesterncenter.com
SUMMARY:CAC+ Community & EQC Taskforce Meeting
DESCRIPTION:The CAC+ Community & EQC Taskforce group meets in person with a hybrid option (Zoom) on the fourth Wednesday of every month from 5pm – 7pm. The meeting will be held at the National Western Center 5115 Race Court\, A light dinner will be provided. \nThere are interpretation services offered for both in-person and zoom attendees.  If you are interested in attending virtually\, please logon using this link: https://us02web.zoom.us/j/89646029176?pwd=NUZvUnpBYVdyS0RXNHhxM2ZFRldRdz09 \nMeeting ID: 896 4602 9176 \nPasscode: 114 \n 
URL:https://nationalwesterncenter.com/event/cac-community-eqc-taskforce-meeting/2026-04-22/
LOCATION:National Western Center\, 5115 Race Court\, Denver\, CO\, 80216\, United States
END:VEVENT
BEGIN:VEVENT
DTSTART;VALUE=DATE:20260424
DTEND;VALUE=DATE:20260426
DTSTAMP:20260421T095326
CREATED:20260210T214303Z
LAST-MODIFIED:20260410T161318Z
UID:10004020-1776988800-1777161599@nationalwesterncenter.com
SUMMARY:JROTC Rocky Mountain Western Drill Championship
DESCRIPTION:The Rocky Mountain Western Drill Championship showcases the discipline\, precision\, and excellence of Army JROTC cadets. This spirited competition presented by 5th ROTC Brigade and Denver Public Schools JROTC brings together top-performing drill teams to compete in both Regulation and Exhibition categories.
URL:https://nationalwesterncenter.com/event/jrotc-rocky-mountain-western-drill-championship/
LOCATION:LVC (Livestock Center)\, 4850 National Western Drive\, Denver\, CO\, 80216\, United States
ATTACH;FMTTYPE=image/png:https://nationalwesterncenter.com/wp-content/uploads/2026/02/Denver-JROTC-RMWC-Promo.png
END:VEVENT
END:VCALENDAR