BEGIN:VCALENDAR
VERSION:2.0
PRODID:-//National Western Center - ECPv6.15.16//NONSGML v1.0//EN
CALSCALE:GREGORIAN
METHOD:PUBLISH
X-ORIGINAL-URL:https://nationalwesterncenter.com
X-WR-CALDESC:Events for National Western Center
REFRESH-INTERVAL;VALUE=DURATION:PT1H
X-Robots-Tag:noindex
X-PUBLISHED-TTL:PT1H
BEGIN:VTIMEZONE
TZID:America/Denver
BEGIN:DAYLIGHT
TZOFFSETFROM:-0700
TZOFFSETTO:-0600
TZNAME:MDT
DTSTART:20180311T090000
END:DAYLIGHT
BEGIN:STANDARD
TZOFFSETFROM:-0600
TZOFFSETTO:-0700
TZNAME:MST
DTSTART:20181104T080000
END:STANDARD
BEGIN:DAYLIGHT
TZOFFSETFROM:-0700
TZOFFSETTO:-0600
TZNAME:MDT
DTSTART:20190310T090000
END:DAYLIGHT
BEGIN:STANDARD
TZOFFSETFROM:-0600
TZOFFSETTO:-0700
TZNAME:MST
DTSTART:20191103T080000
END:STANDARD
BEGIN:DAYLIGHT
TZOFFSETFROM:-0700
TZOFFSETTO:-0600
TZNAME:MDT
DTSTART:20200308T090000
END:DAYLIGHT
BEGIN:STANDARD
TZOFFSETFROM:-0600
TZOFFSETTO:-0700
TZNAME:MST
DTSTART:20201101T080000
END:STANDARD
END:VTIMEZONE
BEGIN:VEVENT
DTSTART;VALUE=DATE:20190525
DTEND;VALUE=DATE:20190527
DTSTAMP:20260420T171512
CREATED:20190514T183242Z
LAST-MODIFIED:20190514T183242Z
UID:10002650-1558742400-1558915199@nationalwesterncenter.com
SUMMARY:HIC Workforce at the Mile High Shootout
DESCRIPTION:Join the NWC-HIC team at the Mile High Shootout to learn more about the project\, future job prospects\, and training opportunities through Worknow.
URL:https://nationalwesterncenter.com/event/hic-workforce-at-the-mile-high-shootout/
LOCATION:Montbello High School\, 5000 Crown Blvd.\, Denver\, CO\, 80239\, United States
END:VEVENT
BEGIN:VEVENT
DTSTART;VALUE=DATE:20190525
DTEND;VALUE=DATE:20190527
DTSTAMP:20260420T171512
CREATED:20190514T183242Z
LAST-MODIFIED:20190514T183242Z
UID:10002770-1558742400-1558915199@nationalwesterncenter.com
SUMMARY:HIC Workforce at the Mile High Shootout
DESCRIPTION:Join the NWC-HIC team at the Mile High Shootout to learn more about the project\, future job prospects\, and training opportunities through Worknow.
URL:https://nationalwesterncenter.com/event/hic-workforce-at-the-mile-high-shootout-2/
LOCATION:Montbello High School\, 5000 Crown Blvd.\, Denver\, CO\, 80239\, United States
END:VEVENT
END:VCALENDAR