BEGIN:VCALENDAR
VERSION:2.0
PRODID:-//National Western Center - ECPv6.15.16//NONSGML v1.0//EN
CALSCALE:GREGORIAN
METHOD:PUBLISH
X-WR-CALNAME:National Western Center
X-ORIGINAL-URL:https://nationalwesterncenter.com
X-WR-CALDESC:Events for National Western Center
REFRESH-INTERVAL;VALUE=DURATION:PT1H
X-Robots-Tag:noindex
X-PUBLISHED-TTL:PT1H
BEGIN:VTIMEZONE
TZID:America/Denver
BEGIN:DAYLIGHT
TZOFFSETFROM:-0700
TZOFFSETTO:-0600
TZNAME:MDT
DTSTART:20170312T090000
END:DAYLIGHT
BEGIN:STANDARD
TZOFFSETFROM:-0600
TZOFFSETTO:-0700
TZNAME:MST
DTSTART:20171105T080000
END:STANDARD
BEGIN:DAYLIGHT
TZOFFSETFROM:-0700
TZOFFSETTO:-0600
TZNAME:MDT
DTSTART:20180311T090000
END:DAYLIGHT
BEGIN:STANDARD
TZOFFSETFROM:-0600
TZOFFSETTO:-0700
TZNAME:MST
DTSTART:20181104T080000
END:STANDARD
BEGIN:DAYLIGHT
TZOFFSETFROM:-0700
TZOFFSETTO:-0600
TZNAME:MDT
DTSTART:20190310T090000
END:DAYLIGHT
BEGIN:STANDARD
TZOFFSETFROM:-0600
TZOFFSETTO:-0700
TZNAME:MST
DTSTART:20191103T080000
END:STANDARD
END:VTIMEZONE
BEGIN:VEVENT
DTSTART;TZID=America/Denver:20180410T090000
DTEND;TZID=America/Denver:20180410T110000
DTSTAMP:20260423T124244
CREATED:20180914T152139Z
LAST-MODIFIED:20180914T152139Z
UID:10002643-1523350800-1523358000@nationalwesterncenter.com
SUMMARY:Industry Forum - Program Update
DESCRIPTION:Thank you for attending!  Click Here for the  presentation. \n  \nPlease join us April 10\, 2018 for our next industry forum.  We will be presenting an update on the National Western Center program.  You won’t want to miss our new site plan and our schedule for vertical construction!  9am-11am at the Denver Coliseum.
URL:https://nationalwesterncenter.com/event/industry-forum-program-update/
LOCATION:Denver Coliseum\, 4600 Humboldt St.\, Denver\, CO\, 80216\, United States
END:VEVENT
BEGIN:VEVENT
DTSTART;TZID=America/Denver:20180410T090000
DTEND;TZID=America/Denver:20180410T110000
DTSTAMP:20260423T124244
CREATED:20180914T152139Z
LAST-MODIFIED:20180914T152139Z
UID:10003034-1523350800-1523358000@nationalwesterncenter.com
SUMMARY:Industry Forum - Program Update
DESCRIPTION:Thank you for attending!  Click Here for the  presentation. \n  \nPlease join us April 10\, 2018 for our next industry forum.  We will be presenting an update on the National Western Center program.  You won’t want to miss our new site plan and our schedule for vertical construction!  9am-11am at the Denver Coliseum.
URL:https://nationalwesterncenter.com/event/industry-forum-program-update-2/
LOCATION:Denver Coliseum\, 4600 Humboldt St.\, Denver\, CO\, 80216\, United States
END:VEVENT
END:VCALENDAR