BEGIN:VCALENDAR
VERSION:2.0
PRODID:-//National Western Center - ECPv6.15.16//NONSGML v1.0//EN
CALSCALE:GREGORIAN
METHOD:PUBLISH
X-WR-CALNAME:National Western Center
X-ORIGINAL-URL:https://nationalwesterncenter.com
X-WR-CALDESC:Events for National Western Center
REFRESH-INTERVAL;VALUE=DURATION:PT1H
X-Robots-Tag:noindex
X-PUBLISHED-TTL:PT1H
BEGIN:VTIMEZONE
TZID:America/Denver
BEGIN:DAYLIGHT
TZOFFSETFROM:-0700
TZOFFSETTO:-0600
TZNAME:MDT
DTSTART:20250309T090000
END:DAYLIGHT
BEGIN:STANDARD
TZOFFSETFROM:-0600
TZOFFSETTO:-0700
TZNAME:MST
DTSTART:20251102T080000
END:STANDARD
BEGIN:DAYLIGHT
TZOFFSETFROM:-0700
TZOFFSETTO:-0600
TZNAME:MDT
DTSTART:20260308T090000
END:DAYLIGHT
BEGIN:STANDARD
TZOFFSETFROM:-0600
TZOFFSETTO:-0700
TZNAME:MST
DTSTART:20261101T080000
END:STANDARD
BEGIN:DAYLIGHT
TZOFFSETFROM:-0700
TZOFFSETTO:-0600
TZNAME:MDT
DTSTART:20270314T090000
END:DAYLIGHT
BEGIN:STANDARD
TZOFFSETFROM:-0600
TZOFFSETTO:-0700
TZNAME:MST
DTSTART:20271107T080000
END:STANDARD
BEGIN:DAYLIGHT
TZOFFSETFROM:-0700
TZOFFSETTO:-0600
TZNAME:MDT
DTSTART:20280312T090000
END:DAYLIGHT
BEGIN:STANDARD
TZOFFSETFROM:-0600
TZOFFSETTO:-0700
TZNAME:MST
DTSTART:20281105T080000
END:STANDARD
BEGIN:DAYLIGHT
TZOFFSETFROM:-0700
TZOFFSETTO:-0600
TZNAME:MDT
DTSTART:20290311T090000
END:DAYLIGHT
BEGIN:STANDARD
TZOFFSETFROM:-0600
TZOFFSETTO:-0700
TZNAME:MST
DTSTART:20291104T080000
END:STANDARD
END:VTIMEZONE
BEGIN:VEVENT
DTSTART;TZID=America/Denver:20260518T130000
DTEND;TZID=America/Denver:20260518T140000
DTSTAMP:20260422T215010
CREATED:20260302T172615Z
LAST-MODIFIED:20260302T172615Z
UID:10004074-1779109200-1779112800@nationalwesterncenter.com
SUMMARY:NWCA Monthly Finance Committee Meeting
DESCRIPTION:This is the recurring meeting of the Finance Committee of the National Western Center Authority Board of Directors. \nMeetings are open to the public and are held on Zoom. Click the Zoom link below to register in advance and/or attend. \nhttps://us02web.zoom.us/j/82932439330
URL:https://nationalwesterncenter.com/event/nwca-monthly-finance-committee-meeting/2026-05-18/
END:VEVENT
BEGIN:VEVENT
DTSTART;TZID=America/Denver:20260615T130000
DTEND;TZID=America/Denver:20260615T140000
DTSTAMP:20260422T215010
CREATED:20260302T172615Z
LAST-MODIFIED:20260302T172615Z
UID:10004075-1781528400-1781532000@nationalwesterncenter.com
SUMMARY:NWCA Monthly Finance Committee Meeting
DESCRIPTION:This is the recurring meeting of the Finance Committee of the National Western Center Authority Board of Directors. \nMeetings are open to the public and are held on Zoom. Click the Zoom link below to register in advance and/or attend. \nhttps://us02web.zoom.us/j/82932439330
URL:https://nationalwesterncenter.com/event/nwca-monthly-finance-committee-meeting/2026-06-15/
END:VEVENT
BEGIN:VEVENT
DTSTART;TZID=America/Denver:20260720T130000
DTEND;TZID=America/Denver:20260720T140000
DTSTAMP:20260422T215010
CREATED:20260302T172615Z
LAST-MODIFIED:20260302T172615Z
UID:10004076-1784552400-1784556000@nationalwesterncenter.com
SUMMARY:NWCA Monthly Finance Committee Meeting
DESCRIPTION:This is the recurring meeting of the Finance Committee of the National Western Center Authority Board of Directors. \nMeetings are open to the public and are held on Zoom. Click the Zoom link below to register in advance and/or attend. \nhttps://us02web.zoom.us/j/82932439330
URL:https://nationalwesterncenter.com/event/nwca-monthly-finance-committee-meeting/2026-07-20/
END:VEVENT
BEGIN:VEVENT
DTSTART;TZID=America/Denver:20260817T130000
DTEND;TZID=America/Denver:20260817T140000
DTSTAMP:20260422T215010
CREATED:20260302T172615Z
LAST-MODIFIED:20260302T172615Z
UID:10004077-1786971600-1786975200@nationalwesterncenter.com
SUMMARY:NWCA Monthly Finance Committee Meeting
DESCRIPTION:This is the recurring meeting of the Finance Committee of the National Western Center Authority Board of Directors. \nMeetings are open to the public and are held on Zoom. Click the Zoom link below to register in advance and/or attend. \nhttps://us02web.zoom.us/j/82932439330
URL:https://nationalwesterncenter.com/event/nwca-monthly-finance-committee-meeting/2026-08-17/
END:VEVENT
BEGIN:VEVENT
DTSTART;TZID=America/Denver:20260921T130000
DTEND;TZID=America/Denver:20260921T140000
DTSTAMP:20260422T215010
CREATED:20260302T172615Z
LAST-MODIFIED:20260302T172615Z
UID:10004078-1789995600-1789999200@nationalwesterncenter.com
SUMMARY:NWCA Monthly Finance Committee Meeting
DESCRIPTION:This is the recurring meeting of the Finance Committee of the National Western Center Authority Board of Directors. \nMeetings are open to the public and are held on Zoom. Click the Zoom link below to register in advance and/or attend. \nhttps://us02web.zoom.us/j/82932439330
URL:https://nationalwesterncenter.com/event/nwca-monthly-finance-committee-meeting/2026-09-21/
END:VEVENT
BEGIN:VEVENT
DTSTART;TZID=America/Denver:20261019T130000
DTEND;TZID=America/Denver:20261019T140000
DTSTAMP:20260422T215010
CREATED:20260302T172615Z
LAST-MODIFIED:20260302T172615Z
UID:10004079-1792414800-1792418400@nationalwesterncenter.com
SUMMARY:NWCA Monthly Finance Committee Meeting
DESCRIPTION:This is the recurring meeting of the Finance Committee of the National Western Center Authority Board of Directors. \nMeetings are open to the public and are held on Zoom. Click the Zoom link below to register in advance and/or attend. \nhttps://us02web.zoom.us/j/82932439330
URL:https://nationalwesterncenter.com/event/nwca-monthly-finance-committee-meeting/2026-10-19/
END:VEVENT
BEGIN:VEVENT
DTSTART;TZID=America/Denver:20261116T130000
DTEND;TZID=America/Denver:20261116T140000
DTSTAMP:20260422T215010
CREATED:20260302T172615Z
LAST-MODIFIED:20260302T172615Z
UID:10004080-1794834000-1794837600@nationalwesterncenter.com
SUMMARY:NWCA Monthly Finance Committee Meeting
DESCRIPTION:This is the recurring meeting of the Finance Committee of the National Western Center Authority Board of Directors. \nMeetings are open to the public and are held on Zoom. Click the Zoom link below to register in advance and/or attend. \nhttps://us02web.zoom.us/j/82932439330
URL:https://nationalwesterncenter.com/event/nwca-monthly-finance-committee-meeting/2026-11-16/
END:VEVENT
BEGIN:VEVENT
DTSTART;TZID=America/Denver:20261221T130000
DTEND;TZID=America/Denver:20261221T140000
DTSTAMP:20260422T215010
CREATED:20260302T172615Z
LAST-MODIFIED:20260302T172615Z
UID:10004081-1797858000-1797861600@nationalwesterncenter.com
SUMMARY:NWCA Monthly Finance Committee Meeting
DESCRIPTION:This is the recurring meeting of the Finance Committee of the National Western Center Authority Board of Directors. \nMeetings are open to the public and are held on Zoom. Click the Zoom link below to register in advance and/or attend. \nhttps://us02web.zoom.us/j/82932439330
URL:https://nationalwesterncenter.com/event/nwca-monthly-finance-committee-meeting/2026-12-21/
END:VEVENT
BEGIN:VEVENT
DTSTART;TZID=America/Denver:20270118T130000
DTEND;TZID=America/Denver:20270118T140000
DTSTAMP:20260422T215010
CREATED:20260302T172615Z
LAST-MODIFIED:20260302T172615Z
UID:10004082-1800277200-1800280800@nationalwesterncenter.com
SUMMARY:NWCA Monthly Finance Committee Meeting
DESCRIPTION:This is the recurring meeting of the Finance Committee of the National Western Center Authority Board of Directors. \nMeetings are open to the public and are held on Zoom. Click the Zoom link below to register in advance and/or attend. \nhttps://us02web.zoom.us/j/82932439330
URL:https://nationalwesterncenter.com/event/nwca-monthly-finance-committee-meeting/2027-01-18/
END:VEVENT
BEGIN:VEVENT
DTSTART;TZID=America/Denver:20270215T130000
DTEND;TZID=America/Denver:20270215T140000
DTSTAMP:20260422T215010
CREATED:20260302T172615Z
LAST-MODIFIED:20260302T172615Z
UID:10004083-1802696400-1802700000@nationalwesterncenter.com
SUMMARY:NWCA Monthly Finance Committee Meeting
DESCRIPTION:This is the recurring meeting of the Finance Committee of the National Western Center Authority Board of Directors. \nMeetings are open to the public and are held on Zoom. Click the Zoom link below to register in advance and/or attend. \nhttps://us02web.zoom.us/j/82932439330
URL:https://nationalwesterncenter.com/event/nwca-monthly-finance-committee-meeting/2027-02-15/
END:VEVENT
BEGIN:VEVENT
DTSTART;TZID=America/Denver:20270315T130000
DTEND;TZID=America/Denver:20270315T140000
DTSTAMP:20260422T215010
CREATED:20260302T172615Z
LAST-MODIFIED:20260302T172615Z
UID:10004084-1805115600-1805119200@nationalwesterncenter.com
SUMMARY:NWCA Monthly Finance Committee Meeting
DESCRIPTION:This is the recurring meeting of the Finance Committee of the National Western Center Authority Board of Directors. \nMeetings are open to the public and are held on Zoom. Click the Zoom link below to register in advance and/or attend. \nhttps://us02web.zoom.us/j/82932439330
URL:https://nationalwesterncenter.com/event/nwca-monthly-finance-committee-meeting/2027-03-15/
END:VEVENT
BEGIN:VEVENT
DTSTART;TZID=America/Denver:20270419T130000
DTEND;TZID=America/Denver:20270419T140000
DTSTAMP:20260422T215010
CREATED:20260302T172615Z
LAST-MODIFIED:20260302T172615Z
UID:10004085-1808139600-1808143200@nationalwesterncenter.com
SUMMARY:NWCA Monthly Finance Committee Meeting
DESCRIPTION:This is the recurring meeting of the Finance Committee of the National Western Center Authority Board of Directors. \nMeetings are open to the public and are held on Zoom. Click the Zoom link below to register in advance and/or attend. \nhttps://us02web.zoom.us/j/82932439330
URL:https://nationalwesterncenter.com/event/nwca-monthly-finance-committee-meeting/2027-04-19/
END:VEVENT
BEGIN:VEVENT
DTSTART;TZID=America/Denver:20270517T130000
DTEND;TZID=America/Denver:20270517T140000
DTSTAMP:20260422T215010
CREATED:20260302T172615Z
LAST-MODIFIED:20260302T172615Z
UID:10004086-1810558800-1810562400@nationalwesterncenter.com
SUMMARY:NWCA Monthly Finance Committee Meeting
DESCRIPTION:This is the recurring meeting of the Finance Committee of the National Western Center Authority Board of Directors. \nMeetings are open to the public and are held on Zoom. Click the Zoom link below to register in advance and/or attend. \nhttps://us02web.zoom.us/j/82932439330
URL:https://nationalwesterncenter.com/event/nwca-monthly-finance-committee-meeting/2027-05-17/
END:VEVENT
BEGIN:VEVENT
DTSTART;TZID=America/Denver:20270621T130000
DTEND;TZID=America/Denver:20270621T140000
DTSTAMP:20260422T215010
CREATED:20260302T172615Z
LAST-MODIFIED:20260302T172615Z
UID:10004087-1813582800-1813586400@nationalwesterncenter.com
SUMMARY:NWCA Monthly Finance Committee Meeting
DESCRIPTION:This is the recurring meeting of the Finance Committee of the National Western Center Authority Board of Directors. \nMeetings are open to the public and are held on Zoom. Click the Zoom link below to register in advance and/or attend. \nhttps://us02web.zoom.us/j/82932439330
URL:https://nationalwesterncenter.com/event/nwca-monthly-finance-committee-meeting/2027-06-21/
END:VEVENT
BEGIN:VEVENT
DTSTART;TZID=America/Denver:20270719T130000
DTEND;TZID=America/Denver:20270719T140000
DTSTAMP:20260422T215010
CREATED:20260302T172615Z
LAST-MODIFIED:20260302T172615Z
UID:10004088-1816002000-1816005600@nationalwesterncenter.com
SUMMARY:NWCA Monthly Finance Committee Meeting
DESCRIPTION:This is the recurring meeting of the Finance Committee of the National Western Center Authority Board of Directors. \nMeetings are open to the public and are held on Zoom. Click the Zoom link below to register in advance and/or attend. \nhttps://us02web.zoom.us/j/82932439330
URL:https://nationalwesterncenter.com/event/nwca-monthly-finance-committee-meeting/2027-07-19/
END:VEVENT
BEGIN:VEVENT
DTSTART;TZID=America/Denver:20270816T130000
DTEND;TZID=America/Denver:20270816T140000
DTSTAMP:20260422T215010
CREATED:20260302T172615Z
LAST-MODIFIED:20260302T172615Z
UID:10004089-1818421200-1818424800@nationalwesterncenter.com
SUMMARY:NWCA Monthly Finance Committee Meeting
DESCRIPTION:This is the recurring meeting of the Finance Committee of the National Western Center Authority Board of Directors. \nMeetings are open to the public and are held on Zoom. Click the Zoom link below to register in advance and/or attend. \nhttps://us02web.zoom.us/j/82932439330
URL:https://nationalwesterncenter.com/event/nwca-monthly-finance-committee-meeting/2027-08-16/
END:VEVENT
BEGIN:VEVENT
DTSTART;TZID=America/Denver:20270920T130000
DTEND;TZID=America/Denver:20270920T140000
DTSTAMP:20260422T215010
CREATED:20260302T172615Z
LAST-MODIFIED:20260302T172615Z
UID:10004090-1821445200-1821448800@nationalwesterncenter.com
SUMMARY:NWCA Monthly Finance Committee Meeting
DESCRIPTION:This is the recurring meeting of the Finance Committee of the National Western Center Authority Board of Directors. \nMeetings are open to the public and are held on Zoom. Click the Zoom link below to register in advance and/or attend. \nhttps://us02web.zoom.us/j/82932439330
URL:https://nationalwesterncenter.com/event/nwca-monthly-finance-committee-meeting/2027-09-20/
END:VEVENT
BEGIN:VEVENT
DTSTART;TZID=America/Denver:20271018T130000
DTEND;TZID=America/Denver:20271018T140000
DTSTAMP:20260422T215010
CREATED:20260302T172615Z
LAST-MODIFIED:20260302T172615Z
UID:10004091-1823864400-1823868000@nationalwesterncenter.com
SUMMARY:NWCA Monthly Finance Committee Meeting
DESCRIPTION:This is the recurring meeting of the Finance Committee of the National Western Center Authority Board of Directors. \nMeetings are open to the public and are held on Zoom. Click the Zoom link below to register in advance and/or attend. \nhttps://us02web.zoom.us/j/82932439330
URL:https://nationalwesterncenter.com/event/nwca-monthly-finance-committee-meeting/2027-10-18/
END:VEVENT
BEGIN:VEVENT
DTSTART;TZID=America/Denver:20271115T130000
DTEND;TZID=America/Denver:20271115T140000
DTSTAMP:20260422T215010
CREATED:20260302T172615Z
LAST-MODIFIED:20260302T172615Z
UID:10004092-1826283600-1826287200@nationalwesterncenter.com
SUMMARY:NWCA Monthly Finance Committee Meeting
DESCRIPTION:This is the recurring meeting of the Finance Committee of the National Western Center Authority Board of Directors. \nMeetings are open to the public and are held on Zoom. Click the Zoom link below to register in advance and/or attend. \nhttps://us02web.zoom.us/j/82932439330
URL:https://nationalwesterncenter.com/event/nwca-monthly-finance-committee-meeting/2027-11-15/
END:VEVENT
BEGIN:VEVENT
DTSTART;TZID=America/Denver:20271220T130000
DTEND;TZID=America/Denver:20271220T140000
DTSTAMP:20260422T215010
CREATED:20260302T172615Z
LAST-MODIFIED:20260302T172615Z
UID:10004093-1829307600-1829311200@nationalwesterncenter.com
SUMMARY:NWCA Monthly Finance Committee Meeting
DESCRIPTION:This is the recurring meeting of the Finance Committee of the National Western Center Authority Board of Directors. \nMeetings are open to the public and are held on Zoom. Click the Zoom link below to register in advance and/or attend. \nhttps://us02web.zoom.us/j/82932439330
URL:https://nationalwesterncenter.com/event/nwca-monthly-finance-committee-meeting/2027-12-20/
END:VEVENT
BEGIN:VEVENT
DTSTART;TZID=America/Denver:20280117T130000
DTEND;TZID=America/Denver:20280117T140000
DTSTAMP:20260422T215010
CREATED:20260302T172615Z
LAST-MODIFIED:20260302T172615Z
UID:10004094-1831726800-1831730400@nationalwesterncenter.com
SUMMARY:NWCA Monthly Finance Committee Meeting
DESCRIPTION:This is the recurring meeting of the Finance Committee of the National Western Center Authority Board of Directors. \nMeetings are open to the public and are held on Zoom. Click the Zoom link below to register in advance and/or attend. \nhttps://us02web.zoom.us/j/82932439330
URL:https://nationalwesterncenter.com/event/nwca-monthly-finance-committee-meeting/2028-01-17/
END:VEVENT
BEGIN:VEVENT
DTSTART;TZID=America/Denver:20280221T130000
DTEND;TZID=America/Denver:20280221T140000
DTSTAMP:20260422T215010
CREATED:20260302T172615Z
LAST-MODIFIED:20260302T172615Z
UID:10004095-1834750800-1834754400@nationalwesterncenter.com
SUMMARY:NWCA Monthly Finance Committee Meeting
DESCRIPTION:This is the recurring meeting of the Finance Committee of the National Western Center Authority Board of Directors. \nMeetings are open to the public and are held on Zoom. Click the Zoom link below to register in advance and/or attend. \nhttps://us02web.zoom.us/j/82932439330
URL:https://nationalwesterncenter.com/event/nwca-monthly-finance-committee-meeting/2028-02-21/
END:VEVENT
BEGIN:VEVENT
DTSTART;TZID=America/Denver:20280320T130000
DTEND;TZID=America/Denver:20280320T140000
DTSTAMP:20260422T215010
CREATED:20260302T172615Z
LAST-MODIFIED:20260302T172615Z
UID:10004096-1837170000-1837173600@nationalwesterncenter.com
SUMMARY:NWCA Monthly Finance Committee Meeting
DESCRIPTION:This is the recurring meeting of the Finance Committee of the National Western Center Authority Board of Directors. \nMeetings are open to the public and are held on Zoom. Click the Zoom link below to register in advance and/or attend. \nhttps://us02web.zoom.us/j/82932439330
URL:https://nationalwesterncenter.com/event/nwca-monthly-finance-committee-meeting/2028-03-20/
END:VEVENT
BEGIN:VEVENT
DTSTART;TZID=America/Denver:20280417T130000
DTEND;TZID=America/Denver:20280417T140000
DTSTAMP:20260422T215010
CREATED:20260302T172615Z
LAST-MODIFIED:20260302T172615Z
UID:10004097-1839589200-1839592800@nationalwesterncenter.com
SUMMARY:NWCA Monthly Finance Committee Meeting
DESCRIPTION:This is the recurring meeting of the Finance Committee of the National Western Center Authority Board of Directors. \nMeetings are open to the public and are held on Zoom. Click the Zoom link below to register in advance and/or attend. \nhttps://us02web.zoom.us/j/82932439330
URL:https://nationalwesterncenter.com/event/nwca-monthly-finance-committee-meeting/2028-04-17/
END:VEVENT
BEGIN:VEVENT
DTSTART;TZID=America/Denver:20280515T130000
DTEND;TZID=America/Denver:20280515T140000
DTSTAMP:20260422T215010
CREATED:20260302T172615Z
LAST-MODIFIED:20260302T172615Z
UID:10004098-1842008400-1842012000@nationalwesterncenter.com
SUMMARY:NWCA Monthly Finance Committee Meeting
DESCRIPTION:This is the recurring meeting of the Finance Committee of the National Western Center Authority Board of Directors. \nMeetings are open to the public and are held on Zoom. Click the Zoom link below to register in advance and/or attend. \nhttps://us02web.zoom.us/j/82932439330
URL:https://nationalwesterncenter.com/event/nwca-monthly-finance-committee-meeting/2028-05-15/
END:VEVENT
BEGIN:VEVENT
DTSTART;TZID=America/Denver:20280619T130000
DTEND;TZID=America/Denver:20280619T140000
DTSTAMP:20260422T215010
CREATED:20260302T172615Z
LAST-MODIFIED:20260302T172615Z
UID:10004099-1845032400-1845036000@nationalwesterncenter.com
SUMMARY:NWCA Monthly Finance Committee Meeting
DESCRIPTION:This is the recurring meeting of the Finance Committee of the National Western Center Authority Board of Directors. \nMeetings are open to the public and are held on Zoom. Click the Zoom link below to register in advance and/or attend. \nhttps://us02web.zoom.us/j/82932439330
URL:https://nationalwesterncenter.com/event/nwca-monthly-finance-committee-meeting/2028-06-19/
END:VEVENT
BEGIN:VEVENT
DTSTART;TZID=America/Denver:20280717T130000
DTEND;TZID=America/Denver:20280717T140000
DTSTAMP:20260422T215010
CREATED:20260302T172615Z
LAST-MODIFIED:20260302T172615Z
UID:10004100-1847451600-1847455200@nationalwesterncenter.com
SUMMARY:NWCA Monthly Finance Committee Meeting
DESCRIPTION:This is the recurring meeting of the Finance Committee of the National Western Center Authority Board of Directors. \nMeetings are open to the public and are held on Zoom. Click the Zoom link below to register in advance and/or attend. \nhttps://us02web.zoom.us/j/82932439330
URL:https://nationalwesterncenter.com/event/nwca-monthly-finance-committee-meeting/2028-07-17/
END:VEVENT
BEGIN:VEVENT
DTSTART;TZID=America/Denver:20280821T130000
DTEND;TZID=America/Denver:20280821T140000
DTSTAMP:20260422T215010
CREATED:20260302T172615Z
LAST-MODIFIED:20260302T172615Z
UID:10004101-1850475600-1850479200@nationalwesterncenter.com
SUMMARY:NWCA Monthly Finance Committee Meeting
DESCRIPTION:This is the recurring meeting of the Finance Committee of the National Western Center Authority Board of Directors. \nMeetings are open to the public and are held on Zoom. Click the Zoom link below to register in advance and/or attend. \nhttps://us02web.zoom.us/j/82932439330
URL:https://nationalwesterncenter.com/event/nwca-monthly-finance-committee-meeting/2028-08-21/
END:VEVENT
BEGIN:VEVENT
DTSTART;TZID=America/Denver:20280918T130000
DTEND;TZID=America/Denver:20280918T140000
DTSTAMP:20260422T215010
CREATED:20260302T172615Z
LAST-MODIFIED:20260302T172615Z
UID:10004102-1852894800-1852898400@nationalwesterncenter.com
SUMMARY:NWCA Monthly Finance Committee Meeting
DESCRIPTION:This is the recurring meeting of the Finance Committee of the National Western Center Authority Board of Directors. \nMeetings are open to the public and are held on Zoom. Click the Zoom link below to register in advance and/or attend. \nhttps://us02web.zoom.us/j/82932439330
URL:https://nationalwesterncenter.com/event/nwca-monthly-finance-committee-meeting/2028-09-18/
END:VEVENT
BEGIN:VEVENT
DTSTART;TZID=America/Denver:20281016T130000
DTEND;TZID=America/Denver:20281016T140000
DTSTAMP:20260422T215010
CREATED:20260302T172615Z
LAST-MODIFIED:20260302T172615Z
UID:10004103-1855314000-1855317600@nationalwesterncenter.com
SUMMARY:NWCA Monthly Finance Committee Meeting
DESCRIPTION:This is the recurring meeting of the Finance Committee of the National Western Center Authority Board of Directors. \nMeetings are open to the public and are held on Zoom. Click the Zoom link below to register in advance and/or attend. \nhttps://us02web.zoom.us/j/82932439330
URL:https://nationalwesterncenter.com/event/nwca-monthly-finance-committee-meeting/2028-10-16/
END:VEVENT
END:VCALENDAR