BEGIN:VCALENDAR
VERSION:2.0
PRODID:-//National Western Center - ECPv6.15.16//NONSGML v1.0//EN
CALSCALE:GREGORIAN
METHOD:PUBLISH
X-WR-CALNAME:National Western Center
X-ORIGINAL-URL:https://nationalwesterncenter.com
X-WR-CALDESC:Events for National Western Center
REFRESH-INTERVAL;VALUE=DURATION:PT1H
X-Robots-Tag:noindex
X-PUBLISHED-TTL:PT1H
BEGIN:VTIMEZONE
TZID:America/Denver
BEGIN:DAYLIGHT
TZOFFSETFROM:-0700
TZOFFSETTO:-0600
TZNAME:MDT
DTSTART:20240310T090000
END:DAYLIGHT
BEGIN:STANDARD
TZOFFSETFROM:-0600
TZOFFSETTO:-0700
TZNAME:MST
DTSTART:20241103T080000
END:STANDARD
BEGIN:DAYLIGHT
TZOFFSETFROM:-0700
TZOFFSETTO:-0600
TZNAME:MDT
DTSTART:20250309T090000
END:DAYLIGHT
BEGIN:STANDARD
TZOFFSETFROM:-0600
TZOFFSETTO:-0700
TZNAME:MST
DTSTART:20251102T080000
END:STANDARD
BEGIN:DAYLIGHT
TZOFFSETFROM:-0700
TZOFFSETTO:-0600
TZNAME:MDT
DTSTART:20260308T090000
END:DAYLIGHT
BEGIN:STANDARD
TZOFFSETFROM:-0600
TZOFFSETTO:-0700
TZNAME:MST
DTSTART:20261101T080000
END:STANDARD
END:VTIMEZONE
BEGIN:VEVENT
DTSTART;TZID=America/Denver:20250212T160000
DTEND;TZID=America/Denver:20250212T173000
DTSTAMP:20260422T060850
CREATED:20211012T183755Z
LAST-MODIFIED:20250514T171422Z
UID:10003644-1739376000-1739381400@nationalwesterncenter.com
SUMMARY:Community Benefits Committee meeting
DESCRIPTION:This is a recurring meeting of the Community Benefits Committee of the National Western Center Authority Board of Directors. \nMeetings are open to the public. \nMeetings are hybrid: held in-person and on Zoom. \nTo attend on Zoom\, please use link below to register in advance to attend. \nhttps://us02web.zoom.us/webinar/register/WN_VYOBqFtGRdmHjp4ETr4Xtg
URL:https://nationalwesterncenter.com/event/community-benefits-committee-meeting-4-2022-02-09/2025-02-12/
LOCATION:National Western Center Offices\, 5115 Race Court\, Denver\, CO\, 80216\, United States
END:VEVENT
BEGIN:VEVENT
DTSTART;VALUE=DATE:20250215
DTEND;VALUE=DATE:20250217
DTSTAMP:20260422T060850
CREATED:20241217T201929Z
LAST-MODIFIED:20241217T201929Z
UID:10003153-1739577600-1739750399@nationalwesterncenter.com
SUMMARY:The Great American Franchise Expo
DESCRIPTION:Join us at The Great American Franchise Expo\, where industry leaders share insights into franchising. Attendees can access free coaching\, expert advice\, and valuable resources for starting and growing a franchise\, whether you’re a new entrepreneur or a seasoned owner. Register online to waive the $29 entrance fee for free admission to this premier event. Check your Gmail Promotions folder to claim your ticket and don’t miss this opportunity for an exceptional franchising experience!
URL:https://nationalwesterncenter.com/event/the-great-american-franchise-expo/
LOCATION:CO
CATEGORIES:Programs
ATTACH;FMTTYPE=image/jpeg:https://nationalwesterncenter.com/wp-content/uploads/2024/12/American-Expo.jpg
END:VEVENT
BEGIN:VEVENT
DTSTART;TZID=America/Denver:20250220T090000
DTEND;TZID=America/Denver:20250220T120000
DTSTAMP:20260422T060850
CREATED:20240815T194000Z
LAST-MODIFIED:20240815T194821Z
UID:10003770-1740042000-1740052800@nationalwesterncenter.com
SUMMARY:National Western Center Authority Board of Directors Meeting
DESCRIPTION:Monthly meeting of the full board of directors. Board meetings are open to the public. \nMeetings are hybrid: held in-person and on Zoom. \nTo attend on Zoom\, please use link below to register in advance and/or attend. \nhttps://us02web.zoom.us/webinar/register/WN_MmVYqvaDRZiQyvzQ2wWolQ
URL:https://nationalwesterncenter.com/event/national-western-center-authority-board-of-directors-meeting-10/2025-02-20/
LOCATION:National Western Center Offices\, 5115 Race Court\, Denver\, CO\, 80216\, United States
END:VEVENT
BEGIN:VEVENT
DTSTART;TZID=America/Denver:20250222T190000
DTEND;TZID=America/Denver:20250222T220000
DTSTAMP:20260422T060850
CREATED:20250206T230857Z
LAST-MODIFIED:20250206T231145Z
UID:10003157-1740250800-1740261600@nationalwesterncenter.com
SUMMARY:BYB Extreme Fighting Series
DESCRIPTION:In a battle of two of BYB’s most explosive (and undefeated) fighters\, men’s Super Lightweight champion Harry “The Hitman” Gigliotti defends his title against Jon “Untameable” Barnard. \nAfter their first matchup ended in no-contest\, BYB Women’s Featherweight champion Helen Peralta and Lailane Mota meet once again in the Trigon for the vacant BYB Super Featherweight Police Gazette Diamond belt. \nPlus\, undefeated former BYB Super Middleweight champion Sam “The Caveman” Liera returns to the Trigon looking to pick up where he left off. But in order to do so\, he will need to once again get past one of the toughest\, meanest fighters in the sport\, Ryan Jett\, whom he went the distance with in the BYB 9 Fight of the Night. \nOriginating in South Florida with backyard legend Dada 5000\, whose backyard fights gained worldwide popularity online\, BYB was founded to harness the excitement of bare knuckle fighting into a more structured product for a wider\, more mainstream audience. Since 2015\, BYB has worked diligently to grow the reach of bare knuckle on both a domestic and international level\, hosting events in Wyoming\, Colorado\, Mississippi\, Louisiana\, Florida\, South Carolina\, England\, Wales\, and Dubai\, and is continuing to work with athletic commissions throughout the United States and globally to expand the fanbase growing sport of bare knuckle fighting. For more information on BYB\, visit bybextreme.com and follow @bybextreme on social.
URL:https://nationalwesterncenter.com/event/byb-extreme-fighting-series/
LOCATION:Stockyards Event Center  5004 National Western Drive  Denver\, CO 80216\, 5004 National Western Drive\, Denver\, CO 80216\, CO\, 80216\, United States
END:VEVENT
BEGIN:VEVENT
DTSTART;TZID=America/Denver:20250226T170000
DTEND;TZID=America/Denver:20250226T190000
DTSTAMP:20260422T060850
CREATED:20221212T213139Z
LAST-MODIFIED:20250424T175647Z
UID:10003719-1740589200-1740596400@nationalwesterncenter.com
SUMMARY:CAC+ Community Meeting
DESCRIPTION:The CAC+ Community group meets in person with a hybrid option (Zoom) on the last Wednesday of every month from 5pm – 7pm. The meeting will be held at the National Western Center 5115 Race Court\,  A light dinner will be provided. \nThere are interpretation services offered for both in-person and zoom attendees.  If you are interested in attending virtually\, please logon using this link: https://us02web.zoom.us/j/89646029176?pwd=NUZvUnpBYVdyS0RXNHhxM2ZFRldRdz09
URL:https://nationalwesterncenter.com/event/cac-community-meeting/2025-02-26/
LOCATION:National Western Center\, 5115 Race Court\, Denver\, CO\, 80216\, United States
END:VEVENT
BEGIN:VEVENT
DTSTART;VALUE=DATE:20250227
DTEND;VALUE=DATE:20250303
DTSTAMP:20260422T060850
CREATED:20241217T201849Z
LAST-MODIFIED:20250227T234925Z
UID:10003151-1740614400-1740959999@nationalwesterncenter.com
SUMMARY:Colorado Mountain Club Banff Film Festival
DESCRIPTION:Join CMC for local screenings of the Banff International Film Festival World Tour in Denver. Each evening presents a unique film playlist\, taking you on journeys through remote landscapes and mountain cultures\, as well as thrilling action sports. The films featured in this year’s World Tour are guaranteed to captivate and inspire the explorer within you. \nSign Up Info\nhttps://www.cmc.org/events/banff-mountain-film-festival
URL:https://nationalwesterncenter.com/event/colorado-mountain-club-banff-film-festival/
LOCATION:Stockyards Event Center  5004 National Western Drive  Denver\, CO 80216\, 5004 National Western Drive\, Denver\, CO 80216\, CO\, 80216\, United States
CATEGORIES:Programs
ATTACH;FMTTYPE=image/jpeg:https://nationalwesterncenter.com/wp-content/uploads/2024/12/BANFF.jpg
END:VEVENT
BEGIN:VEVENT
DTSTART;TZID=America/Denver:20250228T180000
DTEND;TZID=America/Denver:20250228T220000
DTSTAMP:20260422T060850
CREATED:20250227T234324Z
LAST-MODIFIED:20250227T234521Z
UID:10003792-1740765600-1740780000@nationalwesterncenter.com
SUMMARY:Karate Combat
DESCRIPTION:Are you ready to experience crypto’s first sport? \nGet ready for an electrifying Title Fight at Karate Combat KC53 in Denver. \nNot only will you watch it live\, but you can also vote with $KARATE for your top fighter as Undefeated and reigning Bantamweight World Champion\, Arturo “Makoko” Vergara is taking on the #1 contender\, Jesus Lopez in a battle of Chile versus Peru. \nAlso\, The Big Boy from Cuba is back again! Robelis Despaigne returns for a third straight event\, no days off! His previous 2 fights have ended in less than 10 Seconds each\, but this time he’ll be fighting Brazil’s Roggers Souza. Does South America’s #4 ranked Heavyweight have what it takes to finally bring Robelis down in The Pit? Don’t BLINK or you might miss the action. \nWe’ve also got a few Influencer Fight Club fights you don’t want to miss. Join us for an unforgettable night of intense Karate action\, world-class striking\, and jaw-dropping athleticism!
URL:https://nationalwesterncenter.com/event/karate-combat/
LOCATION:Stockyards Event Center  5004 National Western Drive  Denver\, CO 80216\, 5004 National Western Drive\, Denver\, CO 80216\, CO\, 80216\, United States
END:VEVENT
END:VCALENDAR