BEGIN:VCALENDAR
VERSION:2.0
PRODID:-//National Western Center - ECPv6.15.16//NONSGML v1.0//EN
CALSCALE:GREGORIAN
METHOD:PUBLISH
X-ORIGINAL-URL:https://nationalwesterncenter.com
X-WR-CALDESC:Events for National Western Center
REFRESH-INTERVAL;VALUE=DURATION:PT1H
X-Robots-Tag:noindex
X-PUBLISHED-TTL:PT1H
BEGIN:VTIMEZONE
TZID:America/Denver
BEGIN:DAYLIGHT
TZOFFSETFROM:-0700
TZOFFSETTO:-0600
TZNAME:MDT
DTSTART:20220313T090000
END:DAYLIGHT
BEGIN:STANDARD
TZOFFSETFROM:-0600
TZOFFSETTO:-0700
TZNAME:MST
DTSTART:20221106T080000
END:STANDARD
BEGIN:DAYLIGHT
TZOFFSETFROM:-0700
TZOFFSETTO:-0600
TZNAME:MDT
DTSTART:20230312T090000
END:DAYLIGHT
BEGIN:STANDARD
TZOFFSETFROM:-0600
TZOFFSETTO:-0700
TZNAME:MST
DTSTART:20231105T080000
END:STANDARD
BEGIN:DAYLIGHT
TZOFFSETFROM:-0700
TZOFFSETTO:-0600
TZNAME:MDT
DTSTART:20240310T090000
END:DAYLIGHT
BEGIN:STANDARD
TZOFFSETFROM:-0600
TZOFFSETTO:-0700
TZNAME:MST
DTSTART:20241103T080000
END:STANDARD
END:VTIMEZONE
BEGIN:VEVENT
DTSTART;TZID=America/Denver:20230208T160000
DTEND;TZID=America/Denver:20230208T180000
DTSTAMP:20260422T203259
CREATED:20230201T162008Z
LAST-MODIFIED:20230201T162008Z
UID:10003730-1675872000-1675879200@nationalwesterncenter.com
SUMMARY:Subcontractor Open House
DESCRIPTION:Event Flyer – Livestock Center Open House_2023 \nThe Whiting-Turner Contracting Company invites you to join us for an open house \nto learn about upcoming opportunities on the Livestock Center project at \nthe National Western Center. \nWHITING-TURNER JOBSITE OFFICE\n4701 Marion Street\, Suite 201\, Denver\, CO 80216 \nInterested firms\, please RSVP to \ncharday.wheelock@whiting-turner.com
URL:https://nationalwesterncenter.com/event/subcontractor-open-house-2/2023-02-08/
LOCATION:Livestock Exchange Building\, 4701 Marion Street\, Denver\, CO\, 80216\, United States
ATTACH;FMTTYPE=image/tiff:https://nationalwesterncenter.com/wp-content/uploads/2023/01/Livestock-Center_Main-Entry_CCD.tif
END:VEVENT
BEGIN:VEVENT
DTSTART;TZID=America/Denver:20230209T160000
DTEND;TZID=America/Denver:20230209T180000
DTSTAMP:20260422T203259
CREATED:20230201T162008Z
LAST-MODIFIED:20230201T162008Z
UID:10003731-1675958400-1675965600@nationalwesterncenter.com
SUMMARY:Subcontractor Open House
DESCRIPTION:Event Flyer – Livestock Center Open House_2023 \nThe Whiting-Turner Contracting Company invites you to join us for an open house \nto learn about upcoming opportunities on the Livestock Center project at \nthe National Western Center. \nWHITING-TURNER JOBSITE OFFICE\n4701 Marion Street\, Suite 201\, Denver\, CO 80216 \nInterested firms\, please RSVP to \ncharday.wheelock@whiting-turner.com
URL:https://nationalwesterncenter.com/event/subcontractor-open-house-2/2023-02-09/
LOCATION:Livestock Exchange Building\, 4701 Marion Street\, Denver\, CO\, 80216\, United States
ATTACH;FMTTYPE=image/tiff:https://nationalwesterncenter.com/wp-content/uploads/2023/01/Livestock-Center_Main-Entry_CCD.tif
END:VEVENT
BEGIN:VEVENT
DTSTART;TZID=America/Denver:20230220T130000
DTEND;TZID=America/Denver:20230220T140000
DTSTAMP:20260422T203259
CREATED:20211018T194456Z
LAST-MODIFIED:20230117T215702Z
UID:10003659-1676898000-1676901600@nationalwesterncenter.com
SUMMARY:Finance and Audit Committee meeting
DESCRIPTION:This is the recurring meeting of the Finance and Audit Committee of the National Western Center Authority Board of Directors. \nMeetings are open to the public and are held on Zoom. Click the Zoom link below to register in advance and/or attend.
URL:https://nationalwesterncenter.com/event/finance-and-audit-committee-meeting-2-2022-12-19/2023-02-20/
LOCATION:Zoom
END:VEVENT
BEGIN:VEVENT
DTSTART;TZID=America/Denver:20230222T170000
DTEND;TZID=America/Denver:20230222T190000
DTSTAMP:20260422T203259
CREATED:20221212T213139Z
LAST-MODIFIED:20250424T175647Z
UID:10003699-1677085200-1677092400@nationalwesterncenter.com
SUMMARY:CAC+ Community Meeting
DESCRIPTION:The CAC+ Community group meets in person with a hybrid option (Zoom) on the last Wednesday of every month from 5pm – 7pm. The meeting will be held at the National Western Center 5115 Race Court\,  A light dinner will be provided. \nThere are interpretation services offered for both in-person and zoom attendees.  If you are interested in attending virtually\, please logon using this link: https://us02web.zoom.us/j/89646029176?pwd=NUZvUnpBYVdyS0RXNHhxM2ZFRldRdz09
URL:https://nationalwesterncenter.com/event/cac-community-meeting/2023-02-22/
LOCATION:National Western Center\, 5115 Race Court\, Denver\, CO\, 80216\, United States
END:VEVENT
BEGIN:VEVENT
DTSTART;TZID=America/Denver:20230225T200000
DTEND;TZID=America/Denver:20230225T230000
DTSTAMP:20260422T203259
CREATED:20230117T214607Z
LAST-MODIFIED:20230117T221444Z
UID:10003695-1677355200-1677366000@nationalwesterncenter.com
SUMMARY:Concert Los Huracanes del Norte
DESCRIPTION:Talentos: Los Huracanes del Norte\, Los Vendavales\, La Integridad Norteña \n\n\n\n\nPuertas abren/Doors open: 8:00 p.m.\nEdad/Age: 18+\nTodos pagan/ Everyone pays\nPara más info/For more info: 1-800-668-8080\nLine up subject to change
URL:https://nationalwesterncenter.com/event/concert-los-huracanes-del-norte/
LOCATION:Stockyards Event Center  5004 National Western Drive  Denver\, CO 80216\, 5004 National Western Drive\, Denver\, CO 80216\, CO\, 80216\, United States
CATEGORIES:Programs
ATTACH;FMTTYPE=image/jpeg:https://nationalwesterncenter.com/wp-content/uploads/2023/01/cencert-logo.jpg
END:VEVENT
END:VCALENDAR