BEGIN:VCALENDAR
VERSION:2.0
PRODID:-//National Western Center - ECPv6.15.16//NONSGML v1.0//EN
CALSCALE:GREGORIAN
METHOD:PUBLISH
X-WR-CALNAME:National Western Center
X-ORIGINAL-URL:https://nationalwesterncenter.com
X-WR-CALDESC:Events for National Western Center
REFRESH-INTERVAL;VALUE=DURATION:PT1H
X-Robots-Tag:noindex
X-PUBLISHED-TTL:PT1H
BEGIN:VTIMEZONE
TZID:America/Denver
BEGIN:DAYLIGHT
TZOFFSETFROM:-0700
TZOFFSETTO:-0600
TZNAME:MDT
DTSTART:20210314T090000
END:DAYLIGHT
BEGIN:STANDARD
TZOFFSETFROM:-0600
TZOFFSETTO:-0700
TZNAME:MST
DTSTART:20211107T080000
END:STANDARD
BEGIN:DAYLIGHT
TZOFFSETFROM:-0700
TZOFFSETTO:-0600
TZNAME:MDT
DTSTART:20220313T090000
END:DAYLIGHT
BEGIN:STANDARD
TZOFFSETFROM:-0600
TZOFFSETTO:-0700
TZNAME:MST
DTSTART:20221106T080000
END:STANDARD
BEGIN:DAYLIGHT
TZOFFSETFROM:-0700
TZOFFSETTO:-0600
TZNAME:MDT
DTSTART:20230312T090000
END:DAYLIGHT
BEGIN:STANDARD
TZOFFSETFROM:-0600
TZOFFSETTO:-0700
TZNAME:MST
DTSTART:20231105T080000
END:STANDARD
END:VTIMEZONE
BEGIN:VEVENT
DTSTART;TZID=America/Denver:20221102T080000
DTEND;TZID=America/Denver:20221104T170000
DTSTAMP:20260420T221809
CREATED:20221004T215315Z
LAST-MODIFIED:20221004T215642Z
UID:10003104-1667376000-1667581200@nationalwesterncenter.com
SUMMARY:Regenerate Conference
DESCRIPTION:The Quivira Coalition\, Holistic Management International\, and the American Grassfed Association collaborate each year to convene ranchers\, farmers\, conservationists\, land managers\, scientists\, and thought leaders to share knowledge\, build community\, and create a culture of resilience and regeneration. \nThis year we are excited to explore the intersections of ecology and economy through the lenses of agriculture\, science\, conservation\, economics\, racial justice\, policy\, and culture. Leading up to our conference\, we will host a month-long series of events including a virtual workshop week and field days throughout the western US. These events will culminate in REGENERATE 2022\, our hybrid conference that will take place November 2-4\, 2022\, in person at the National Western Center in Denver\, CO and online for virtual attendees. \nJoin us at REGENERATE 2022 as we co-create a vision of working together to foster restorative systems and implement practices that better serve our planet and our communities. We invite you to contribute your energy and ideas to the conversation at this year’s convening\, Cultivating Restorative Economies. Register here: https://regenerateconference.com/registration/
URL:https://nationalwesterncenter.com/event/regenerate-conference/
LOCATION:Stockyards Event Center  5004 National Western Drive  Denver\, CO 80216\, 5004 National Western Drive\, Denver\, CO 80216\, CO\, 80216\, United States
CATEGORIES:Programs
ATTACH;FMTTYPE=image/png:https://nationalwesterncenter.com/wp-content/uploads/2022/10/Regenerate-logo.png
END:VEVENT
BEGIN:VEVENT
DTSTART;TZID=America/Denver:20221109T170000
DTEND;TZID=America/Denver:20221109T190000
DTSTAMP:20260420T221809
CREATED:20221108T172530Z
LAST-MODIFIED:20221108T172530Z
UID:10003689-1668013200-1668020400@nationalwesterncenter.com
SUMMARY:Community Workshop: Change Your Habits\, One Tiny Step at a Time | Cambia Tus habitos Pasito a Pasito
DESCRIPTION:Be the change that you want to see in your community. It starts with small daily habits. Come learn about how taking small steps can lead to big changes in your life and in your community. \nSé el cambio que quieres ver en tu comunidad. Comienza con hacer pequeños cambios diarios. Ven a aprender sobre cómo dar un pasito puede traer cambios grandes en tu vida y en tu comunidad. \nDate/ Fecha: Nov. 9\, 2022\nTime/ Hora: 5-7 pm\nDinner will be provided • Free book giveaway \nSe proveerá comida • Sorteo de libros gratis \nLocation/Lugar: \nProject Angel Heart\,\n4950 Washington St\, Denver\, CO 80216\nor \nvia Zoom:\nhttps://us02web.zoom.us/j/83462860972?pwd=NWJjcVh4Wi8wY3pvUHV0akl3QTJOdz09
URL:https://nationalwesterncenter.com/event/community-workshop-change-your-habits-one-tiny-step-at-a-time-cambia-tus-habitos-pasito-a-pasito/
LOCATION:Project Angel Heart\, 4950 Washington Street\, Denver\, CO\, 80216\, United States
END:VEVENT
BEGIN:VEVENT
DTSTART;TZID=America/Denver:20221116T170000
DTEND;TZID=America/Denver:20221116T190000
DTSTAMP:20260420T221809
CREATED:20221025T173623Z
LAST-MODIFIED:20221115T191757Z
UID:10003688-1668618000-1668625200@nationalwesterncenter.com
SUMMARY:Citizen's Advisory Committee + Community Meeting
DESCRIPTION:The CAC+ Community group meets in person with a hybrid option (Zoom) on the last Wednesday of every month from 5pm – 7pm. The November meeting will be held on the 16th to accommodate the Thanksgiving Holiday. The November meeting will be held at CSU Spur’s Terra Building 4817 National Wester Center Drive in the Palisade Peach Conference Room. A light dinner will be provided. \nThere are interpretation services offered for both in-person and zoom attendees.  If you are interested in attending virtually\, please logon using this link: https://us02web.zoom.us/j/89646029176?pwd=NUZvUnpBYVdyS0RXNHhxM2ZFRldRdz09 \n 
URL:https://nationalwesterncenter.com/event/citizens-advisory-committee-community-meeting-2/
LOCATION:csu spur
END:VEVENT
BEGIN:VEVENT
DTSTART;TZID=America/Denver:20221119T100000
DTEND;TZID=America/Denver:20221120T170000
DTSTAMP:20260420T221809
CREATED:20221110T175522Z
LAST-MODIFIED:20221110T175600Z
UID:10003690-1668852000-1668963600@nationalwesterncenter.com
SUMMARY:Sugar Plum Bazaar
DESCRIPTION:A local artisan market featuring over 100 local artisans and businesses at the New Stockyards Event Center. More information can be found: sugarplumbazaar.com \n 
URL:https://nationalwesterncenter.com/event/sugar-plum-bazaar/
LOCATION:Stockyards Event Center  5004 National Western Drive  Denver\, CO 80216\, 5004 National Western Drive\, Denver\, CO 80216\, CO\, 80216\, United States
CATEGORIES:Programs
ATTACH;FMTTYPE=image/png:https://nationalwesterncenter.com/wp-content/uploads/2022/11/Sugar-Plum.png
END:VEVENT
BEGIN:VEVENT
DTSTART;TZID=America/Denver:20221121T130000
DTEND;TZID=America/Denver:20221121T140000
DTSTAMP:20260420T221809
CREATED:20211018T194456Z
LAST-MODIFIED:20220117T182630Z
UID:10003656-1669035600-1669039200@nationalwesterncenter.com
SUMMARY:Finance and Audit Committee meeting
DESCRIPTION:This is the recurring meeting of the Finance and Audit Committee of the National Western Center Authority Board of Directors. \nMeetings are open to the public and are held on Zoom. Click the Zoom link below to register in advance and/or attend.
URL:https://nationalwesterncenter.com/event/finance-and-audit-committee-meeting-2-2022-02-21/2022-11-21/
LOCATION:Zoom
END:VEVENT
END:VCALENDAR