BEGIN:VCALENDAR
VERSION:2.0
PRODID:-//National Western Center - ECPv6.15.16//NONSGML v1.0//EN
CALSCALE:GREGORIAN
METHOD:PUBLISH
X-ORIGINAL-URL:https://nationalwesterncenter.com
X-WR-CALDESC:Events for National Western Center
REFRESH-INTERVAL;VALUE=DURATION:PT1H
X-Robots-Tag:noindex
X-PUBLISHED-TTL:PT1H
BEGIN:VTIMEZONE
TZID:America/Denver
BEGIN:DAYLIGHT
TZOFFSETFROM:-0700
TZOFFSETTO:-0600
TZNAME:MDT
DTSTART:20200308T090000
END:DAYLIGHT
BEGIN:STANDARD
TZOFFSETFROM:-0600
TZOFFSETTO:-0700
TZNAME:MST
DTSTART:20201101T080000
END:STANDARD
BEGIN:DAYLIGHT
TZOFFSETFROM:-0700
TZOFFSETTO:-0600
TZNAME:MDT
DTSTART:20210314T090000
END:DAYLIGHT
BEGIN:STANDARD
TZOFFSETFROM:-0600
TZOFFSETTO:-0700
TZNAME:MST
DTSTART:20211107T080000
END:STANDARD
BEGIN:DAYLIGHT
TZOFFSETFROM:-0700
TZOFFSETTO:-0600
TZNAME:MDT
DTSTART:20220313T090000
END:DAYLIGHT
BEGIN:STANDARD
TZOFFSETFROM:-0600
TZOFFSETTO:-0700
TZNAME:MST
DTSTART:20221106T080000
END:STANDARD
END:VTIMEZONE
BEGIN:VEVENT
DTSTART;TZID=America/Denver:20210712T090000
DTEND;TZID=America/Denver:20210712T110000
DTSTAMP:20260419T145338
CREATED:20201104T185631Z
LAST-MODIFIED:20210709T153654Z
UID:10003633-1626080400-1626087600@nationalwesterncenter.com
SUMMARY:Finance and Audit Committee meeting
DESCRIPTION:This is the recurring meeting of the Finance and Audit Committee of the National Western Center Authority Board of Directors. \nMeetings are open to the public. Click the Zoom link below to register and/or attend. \nView agenda (PDF). \n 
URL:https://nationalwesterncenter.com/event/finance-and-audit-committee-meeting-2021-01-18-2021-07-19/
LOCATION:Wellington Webb Municipal Building\, Room 4.I.5\, 201 W. Colfax Ave.\, Denver\, CO\, 80202\, United States
END:VEVENT
BEGIN:VEVENT
DTSTART;TZID=America/Denver:20210714T100000
DTEND;TZID=America/Denver:20210714T113000
DTSTAMP:20260419T145338
CREATED:20201104T185233Z
LAST-MODIFIED:20210707T152307Z
UID:10003617-1626256800-1626262200@nationalwesterncenter.com
SUMMARY:CANCELLED: Community Benefits Committee meeting
DESCRIPTION:This meeting has been cancelled. \nThis is a recurring meeting of the Community Benefits Committee of the National Western Center Authority Board of Directors. \nMeetings are open to the public. \n 
URL:https://nationalwesterncenter.com/event/community-benefits-committee-meeting-3-2020-12-09-2021-07-14/
LOCATION:CO
END:VEVENT
BEGIN:VEVENT
DTSTART;TZID=America/Denver:20210715T080000
DTEND;TZID=America/Denver:20210715T090000
DTSTAMP:20260419T145338
CREATED:20201104T184804Z
LAST-MODIFIED:20210713T190035Z
UID:10003615-1626336000-1626339600@nationalwesterncenter.com
SUMMARY:CANCELLED: Campus Services and Partnerships Committee
DESCRIPTION:This meeting has been cancelled. \nThis is the recurring meeting of the Campus Services and Partnerships committee of the National Western Center Authority Board of Directors. \nThis committee evaluates potential campus partnerships and services and advises campus partners and the Authority CEO of such opportunities. \nMeetings are open to the public.
URL:https://nationalwesterncenter.com/event/campus-services-and-partnerships-committee-2020-12-17-2021-07-15/
LOCATION:CO
END:VEVENT
BEGIN:VEVENT
DTSTART;TZID=America/Denver:20210715T090000
DTEND;TZID=America/Denver:20210715T120000
DTSTAMP:20260419T145338
CREATED:20201104T175745Z
LAST-MODIFIED:20210215T224927Z
UID:10003599-1626339600-1626350400@nationalwesterncenter.com
SUMMARY:National Western Center Authority Board of Directors meeting
DESCRIPTION:Monthly meeting of the full board of directors. Board meetings are open to the public. \nPlease click Zoom link below to register and/or attend.
URL:https://nationalwesterncenter.com/event/national-western-center-authority-board-of-directors-meeting-7-2021-03-18/2021-07-15/
LOCATION:CO
END:VEVENT
END:VCALENDAR