BEGIN:VCALENDAR
VERSION:2.0
PRODID:-//National Western Center - ECPv6.15.16//NONSGML v1.0//EN
CALSCALE:GREGORIAN
METHOD:PUBLISH
X-WR-CALNAME:National Western Center
X-ORIGINAL-URL:https://nationalwesterncenter.com
X-WR-CALDESC:Events for National Western Center
REFRESH-INTERVAL;VALUE=DURATION:PT1H
X-Robots-Tag:noindex
X-PUBLISHED-TTL:PT1H
BEGIN:VTIMEZONE
TZID:America/Denver
BEGIN:DAYLIGHT
TZOFFSETFROM:-0700
TZOFFSETTO:-0600
TZNAME:MDT
DTSTART:20200308T090000
END:DAYLIGHT
BEGIN:STANDARD
TZOFFSETFROM:-0600
TZOFFSETTO:-0700
TZNAME:MST
DTSTART:20201101T080000
END:STANDARD
BEGIN:DAYLIGHT
TZOFFSETFROM:-0700
TZOFFSETTO:-0600
TZNAME:MDT
DTSTART:20210314T090000
END:DAYLIGHT
BEGIN:STANDARD
TZOFFSETFROM:-0600
TZOFFSETTO:-0700
TZNAME:MST
DTSTART:20211107T080000
END:STANDARD
BEGIN:DAYLIGHT
TZOFFSETFROM:-0700
TZOFFSETTO:-0600
TZNAME:MDT
DTSTART:20220313T090000
END:DAYLIGHT
BEGIN:STANDARD
TZOFFSETFROM:-0600
TZOFFSETTO:-0700
TZNAME:MST
DTSTART:20221106T080000
END:STANDARD
END:VTIMEZONE
BEGIN:VEVENT
DTSTART;TZID=America/Denver:20210609T100000
DTEND;TZID=America/Denver:20210609T113000
DTSTAMP:20260419T150551
CREATED:20201104T185233Z
LAST-MODIFIED:20210602T160906Z
UID:10003073-1623232800-1623238200@nationalwesterncenter.com
SUMMARY:CANCELLED: Community Benefits Committee meeting
DESCRIPTION:This is a recurring meeting of the Community Benefits Committee of the National Western Center Authority Board of Directors. \nMeetings are open to the public. Click the Zoom link below to register and/or attend. \n 
URL:https://nationalwesterncenter.com/event/community-benefits-committee-meeting-3-2020-12-09-2021-06-09/
LOCATION:CO
END:VEVENT
BEGIN:VEVENT
DTSTART;TZID=America/Denver:20210617T080000
DTEND;TZID=America/Denver:20210617T090000
DTSTAMP:20260419T150551
CREATED:20201104T184804Z
LAST-MODIFIED:20210615T205754Z
UID:10003614-1623916800-1623920400@nationalwesterncenter.com
SUMMARY:CANCELLED: Campus Services and Partnerships Committee
DESCRIPTION:This is the recurring meeting of the Campus Services and Partnerships committee of the National Western Center Authority Board of Directors. \nThis committee evaluates potential campus partnerships and services and advises campus partners and the Authority CEO of such opportunities. \nMeetings are open to the public.
URL:https://nationalwesterncenter.com/event/campus-services-and-partnerships-committee-2020-12-17-2021-06-17/
LOCATION:CO
END:VEVENT
BEGIN:VEVENT
DTSTART;TZID=America/Denver:20210617T090000
DTEND;TZID=America/Denver:20210617T120000
DTSTAMP:20260419T150551
CREATED:20201104T175745Z
LAST-MODIFIED:20210616T164914Z
UID:10003603-1623920400-1623931200@nationalwesterncenter.com
SUMMARY:National Western Center Authority Board of Directors meeting
DESCRIPTION:Monthly meeting of the full board of directors. Board meetings are open to the public. \nThis meeting will be a hybrid of in-person and on Zoom. \nPlease click Zoom link below to register and/or attend online.
URL:https://nationalwesterncenter.com/event/national-western-center-authority-board-of-directors-meeting-7-2021-06-17/
LOCATION:National Western Center Offices\, 5115 Race Court\, Denver\, CO\, 80216\, United States
END:VEVENT
BEGIN:VEVENT
DTSTART;TZID=America/Denver:20210619T130000
DTEND;TZID=America/Denver:20210619T140000
DTSTAMP:20260419T150551
CREATED:20190613T152804Z
LAST-MODIFIED:20220117T183704Z
UID:10002654-1624107600-1624111200@nationalwesterncenter.com
SUMMARY:June 17\, 2019 Finance Committee meeting
DESCRIPTION:
URL:https://nationalwesterncenter.com/event/june-17-2019-finance-committee-meeting/
LOCATION:CO
END:VEVENT
BEGIN:VEVENT
DTSTART;TZID=America/Denver:20210621T130000
DTEND;TZID=America/Denver:20210621T140000
DTSTAMP:20260419T150551
CREATED:20201104T185631Z
LAST-MODIFIED:20210614T210551Z
UID:10003632-1624280400-1624284000@nationalwesterncenter.com
SUMMARY:CANCELLED: Finance and Audit Committee meeting
DESCRIPTION:This is the recurring meeting of the Finance and Audit Committee of the National Western Center Authority Board of Directors. \nMeetings are open to the public. Click the Zoom link below to register and/or attend. \n  \n 
URL:https://nationalwesterncenter.com/event/finance-and-audit-committee-meeting-2021-01-18-2021-06-21/
LOCATION:CO
END:VEVENT
END:VCALENDAR