BEGIN:VCALENDAR
VERSION:2.0
PRODID:-//National Western Center - ECPv6.15.16//NONSGML v1.0//EN
CALSCALE:GREGORIAN
METHOD:PUBLISH
X-ORIGINAL-URL:https://nationalwesterncenter.com
X-WR-CALDESC:Events for National Western Center
REFRESH-INTERVAL;VALUE=DURATION:PT1H
X-Robots-Tag:noindex
X-PUBLISHED-TTL:PT1H
BEGIN:VTIMEZONE
TZID:America/Denver
BEGIN:DAYLIGHT
TZOFFSETFROM:-0700
TZOFFSETTO:-0600
TZNAME:MDT
DTSTART:20200308T090000
END:DAYLIGHT
BEGIN:STANDARD
TZOFFSETFROM:-0600
TZOFFSETTO:-0700
TZNAME:MST
DTSTART:20201101T080000
END:STANDARD
BEGIN:DAYLIGHT
TZOFFSETFROM:-0700
TZOFFSETTO:-0600
TZNAME:MDT
DTSTART:20210314T090000
END:DAYLIGHT
BEGIN:STANDARD
TZOFFSETFROM:-0600
TZOFFSETTO:-0700
TZNAME:MST
DTSTART:20211107T080000
END:STANDARD
BEGIN:DAYLIGHT
TZOFFSETFROM:-0700
TZOFFSETTO:-0600
TZNAME:MDT
DTSTART:20220313T090000
END:DAYLIGHT
BEGIN:STANDARD
TZOFFSETFROM:-0600
TZOFFSETTO:-0700
TZNAME:MST
DTSTART:20221106T080000
END:STANDARD
END:VTIMEZONE
BEGIN:VEVENT
DTSTART;TZID=America/Denver:20210401T130000
DTEND;TZID=America/Denver:20210401T143000
DTSTAMP:20260420T025558
CREATED:20210330T184324Z
LAST-MODIFIED:20210330T184324Z
UID:10003638-1617282000-1617287400@nationalwesterncenter.com
SUMMARY:Tier 1 Committee meeting
DESCRIPTION:This is a meeting of the Tier 1 Committee of the National Western Center Authority Board of Directors. \nTopic: Operations strategy. \n  \n 
URL:https://nationalwesterncenter.com/event/tier-1-committee-meeting/
LOCATION:CO
END:VEVENT
BEGIN:VEVENT
DTSTART;TZID=America/Denver:20210406T130000
DTEND;TZID=America/Denver:20210406T143000
DTSTAMP:20260420T025558
CREATED:20210405T143054Z
LAST-MODIFIED:20210405T143054Z
UID:10003637-1617714000-1617719400@nationalwesterncenter.com
SUMMARY:Tier 1 Committee Meeting
DESCRIPTION:This is a meeting of the Tier 1 Committee of the National Western Center Authority Board of Directors. \nTopic: Operations strategy.
URL:https://nationalwesterncenter.com/event/tier-1-committee-meeting-2/
LOCATION:CO
END:VEVENT
BEGIN:VEVENT
DTSTART;TZID=America/Denver:20210414T103000
DTEND;TZID=America/Denver:20210414T110000
DTSTAMP:20260420T025558
CREATED:20201104T185233Z
LAST-MODIFIED:20210412T230738Z
UID:10003069-1618396200-1618398000@nationalwesterncenter.com
SUMMARY:Community Benefits Committee meeting
DESCRIPTION:This is a recurring meeting of the Community Benefits Committee of the National Western Center Authority Board of Directors. \nMeetings are open to the public. Click the Zoom link below to register and/or attend. \nView agenda (PDF).
URL:https://nationalwesterncenter.com/event/community-benefits-committee-meeting-3-2020-12-09-2021-04-14/
LOCATION:CO
END:VEVENT
BEGIN:VEVENT
DTSTART;TZID=America/Denver:20210415T080000
DTEND;TZID=America/Denver:20210415T090000
DTSTAMP:20260420T025558
CREATED:20201104T184804Z
LAST-MODIFIED:20210414T163124Z
UID:10003612-1618473600-1618477200@nationalwesterncenter.com
SUMMARY:CANCELLED: Campus Services and Partnerships Committee
DESCRIPTION:This is the recurring meeting of the Campus Services and Partnerships committee of the National Western Center Authority Board of Directors. \nThis committee evaluates potential campus partnerships and services and advises campus partners and the Authority CEO of such opportunities. \nMeetings are open to the public. Click Zoom link below to register and/or attend.
URL:https://nationalwesterncenter.com/event/campus-services-and-partnerships-committee-2020-12-17-2021-04-15/
LOCATION:CO
END:VEVENT
BEGIN:VEVENT
DTSTART;TZID=America/Denver:20210415T090000
DTEND;TZID=America/Denver:20210415T120000
DTSTAMP:20260420T025558
CREATED:20201104T175745Z
LAST-MODIFIED:20210409T180116Z
UID:10003602-1618477200-1618488000@nationalwesterncenter.com
SUMMARY:National Western Center Authority Board of Directors meeting
DESCRIPTION:Monthly meeting of the full board of directors. Board meetings are open to the public. \nPlease click Zoom link below to register and/or attend. \nView agenda (PDF).
URL:https://nationalwesterncenter.com/event/national-western-center-authority-board-of-directors-meeting-7-2021-04-15/
LOCATION:CO
END:VEVENT
BEGIN:VEVENT
DTSTART;TZID=America/Denver:20210419T130000
DTEND;TZID=America/Denver:20210419T140000
DTSTAMP:20260420T025558
CREATED:20201104T185631Z
LAST-MODIFIED:20210315T232751Z
UID:10003628-1618837200-1618840800@nationalwesterncenter.com
SUMMARY:Finance and Audit Committee meeting
DESCRIPTION:This is the recurring meeting of the Finance and Audit Committee of the National Western Center Authority Board of Directors. \nMeetings are open to the public. Click the Zoom link below to register and/or attend. \n  \n 
URL:https://nationalwesterncenter.com/event/finance-and-audit-committee-meeting-2021-01-18-2021-04-19/2021-04-19/
LOCATION:CO
END:VEVENT
BEGIN:VEVENT
DTSTART;TZID=America/Denver:20210428T123000
DTEND;TZID=America/Denver:20210428T143000
DTSTAMP:20260420T025558
CREATED:20210428T143949Z
LAST-MODIFIED:20210428T144030Z
UID:10003639-1619613000-1619620200@nationalwesterncenter.com
SUMMARY:Tier 1 Committee meeting
DESCRIPTION:This is a meeting of the Tier 1 Committee of the National Western Center Authority Board of Directors. \nTopic: Operations strategy.
URL:https://nationalwesterncenter.com/event/tier-1-committee-meeting-4/
LOCATION:CO
END:VEVENT
END:VCALENDAR