BEGIN:VCALENDAR
VERSION:2.0
PRODID:-//National Western Center - ECPv6.15.16//NONSGML v1.0//EN
CALSCALE:GREGORIAN
METHOD:PUBLISH
X-WR-CALNAME:National Western Center
X-ORIGINAL-URL:https://nationalwesterncenter.com
X-WR-CALDESC:Events for National Western Center
REFRESH-INTERVAL;VALUE=DURATION:PT1H
X-Robots-Tag:noindex
X-PUBLISHED-TTL:PT1H
BEGIN:VTIMEZONE
TZID:America/Denver
BEGIN:DAYLIGHT
TZOFFSETFROM:-0700
TZOFFSETTO:-0600
TZNAME:MDT
DTSTART:20190310T090000
END:DAYLIGHT
BEGIN:STANDARD
TZOFFSETFROM:-0600
TZOFFSETTO:-0700
TZNAME:MST
DTSTART:20191103T080000
END:STANDARD
BEGIN:DAYLIGHT
TZOFFSETFROM:-0700
TZOFFSETTO:-0600
TZNAME:MDT
DTSTART:20200308T090000
END:DAYLIGHT
BEGIN:STANDARD
TZOFFSETFROM:-0600
TZOFFSETTO:-0700
TZNAME:MST
DTSTART:20201101T080000
END:STANDARD
BEGIN:DAYLIGHT
TZOFFSETFROM:-0700
TZOFFSETTO:-0600
TZNAME:MDT
DTSTART:20210314T090000
END:DAYLIGHT
BEGIN:STANDARD
TZOFFSETFROM:-0600
TZOFFSETTO:-0700
TZNAME:MST
DTSTART:20211107T080000
END:STANDARD
END:VTIMEZONE
BEGIN:VEVENT
DTSTART;TZID=America/Denver:20201008T110000
DTEND;TZID=America/Denver:20201008T120000
DTSTAMP:20260424T040023
CREATED:20200925T220425Z
LAST-MODIFIED:20200925T220425Z
UID:10003590-1602154800-1602158400@nationalwesterncenter.com
SUMMARY:51st Bridge and Heron Pond Pre-Bid Information Meeting
DESCRIPTION:The Mayor’s Office of the National Western Center (NWCO) and the Horizontal Integrated Contractor (HIC) Hensel Phelps (HP) have issued a Request for Bids for 51st Bridge and Heron Pond work. Bids for Heavy Civil General Contractors will be accepted. The scope of work includes demo\, earthwork\, erosion control\, utilities\, right of way work\, landscape\, irrigation and levee work. \nRemote Pre-Bid Information Meeting \nOct. 8\, 2020\, 11 a.m. – noon MST \nJoin with Microsoft Teams through the following link: https://bit.ly/2S19Jra
URL:https://nationalwesterncenter.com/event/51st-bridge-and-heron-pond-pre-bid-information-meeting/
LOCATION:Remote\, CO\, United States
ORGANIZER;CN="Hensel Phelps/HIC":MAILTO:kbonde@henselphelps.com
END:VEVENT
BEGIN:VEVENT
DTSTART;TZID=America/Denver:20201015T090000
DTEND;TZID=America/Denver:20201015T120000
DTSTAMP:20260424T040023
CREATED:20200714T143322Z
LAST-MODIFIED:20200714T143322Z
UID:10003048-1602752400-1602763200@nationalwesterncenter.com
SUMMARY:National Western Center Authority Board of Directors meeting
DESCRIPTION:For details view the Board of Directors page.
URL:https://nationalwesterncenter.com/event/national-western-center-authority-board-of-directors-meeting-4/
LOCATION:CO
END:VEVENT
END:VCALENDAR