BEGIN:VCALENDAR
VERSION:2.0
PRODID:-//National Western Center - ECPv6.15.16//NONSGML v1.0//EN
CALSCALE:GREGORIAN
METHOD:PUBLISH
X-WR-CALNAME:National Western Center
X-ORIGINAL-URL:https://nationalwesterncenter.com
X-WR-CALDESC:Events for National Western Center
REFRESH-INTERVAL;VALUE=DURATION:PT1H
X-Robots-Tag:noindex
X-PUBLISHED-TTL:PT1H
BEGIN:VTIMEZONE
TZID:America/Denver
BEGIN:DAYLIGHT
TZOFFSETFROM:-0700
TZOFFSETTO:-0600
TZNAME:MDT
DTSTART:20190310T090000
END:DAYLIGHT
BEGIN:STANDARD
TZOFFSETFROM:-0600
TZOFFSETTO:-0700
TZNAME:MST
DTSTART:20191103T080000
END:STANDARD
BEGIN:DAYLIGHT
TZOFFSETFROM:-0700
TZOFFSETTO:-0600
TZNAME:MDT
DTSTART:20200308T090000
END:DAYLIGHT
BEGIN:STANDARD
TZOFFSETFROM:-0600
TZOFFSETTO:-0700
TZNAME:MST
DTSTART:20201101T080000
END:STANDARD
BEGIN:DAYLIGHT
TZOFFSETFROM:-0700
TZOFFSETTO:-0600
TZNAME:MDT
DTSTART:20210314T090000
END:DAYLIGHT
BEGIN:STANDARD
TZOFFSETFROM:-0600
TZOFFSETTO:-0700
TZNAME:MST
DTSTART:20211107T080000
END:STANDARD
END:VTIMEZONE
BEGIN:VEVENT
DTSTART;TZID=America/Denver:20200820T090000
DTEND;TZID=America/Denver:20200820T120000
DTSTAMP:20260424T071042
CREATED:20200714T142959Z
LAST-MODIFIED:20200714T142959Z
UID:10003044-1597914000-1597924800@nationalwesterncenter.com
SUMMARY:National Western Center Authority Board of Directors meeting
DESCRIPTION:For details view the Board of Directors page.
URL:https://nationalwesterncenter.com/event/national-western-center-authority-board-of-directors-meeting-2/
LOCATION:CO
END:VEVENT
END:VCALENDAR