BEGIN:VCALENDAR
VERSION:2.0
PRODID:-//National Western Center - ECPv6.15.16//NONSGML v1.0//EN
CALSCALE:GREGORIAN
METHOD:PUBLISH
X-ORIGINAL-URL:https://nationalwesterncenter.com
X-WR-CALDESC:Events for National Western Center
REFRESH-INTERVAL;VALUE=DURATION:PT1H
X-Robots-Tag:noindex
X-PUBLISHED-TTL:PT1H
BEGIN:VTIMEZONE
TZID:America/Denver
BEGIN:DAYLIGHT
TZOFFSETFROM:-0700
TZOFFSETTO:-0600
TZNAME:MDT
DTSTART:20190310T090000
END:DAYLIGHT
BEGIN:STANDARD
TZOFFSETFROM:-0600
TZOFFSETTO:-0700
TZNAME:MST
DTSTART:20191103T080000
END:STANDARD
BEGIN:DAYLIGHT
TZOFFSETFROM:-0700
TZOFFSETTO:-0600
TZNAME:MDT
DTSTART:20200308T090000
END:DAYLIGHT
BEGIN:STANDARD
TZOFFSETFROM:-0600
TZOFFSETTO:-0700
TZNAME:MST
DTSTART:20201101T080000
END:STANDARD
BEGIN:DAYLIGHT
TZOFFSETFROM:-0700
TZOFFSETTO:-0600
TZNAME:MDT
DTSTART:20210314T090000
END:DAYLIGHT
BEGIN:STANDARD
TZOFFSETFROM:-0600
TZOFFSETTO:-0700
TZNAME:MST
DTSTART:20211107T080000
END:STANDARD
END:VTIMEZONE
BEGIN:VEVENT
DTSTART;TZID=America/Denver:20200610T140000
DTEND;TZID=America/Denver:20200610T160000
DTSTAMP:20260424T043717
CREATED:20200511T223112Z
LAST-MODIFIED:20200512T150624Z
UID:10003588-1591797600-1591804800@nationalwesterncenter.com
SUMMARY:Whiting-Turner Equestrian Center M/WBE Virtual Open House
DESCRIPTION:Whiting-Turner Equestrian Center M/WBE Virtual Open House \nWe would like to invite you all to our Virtual MWBE Open house that will take place this Wednesday May 13th from 1:00 PM to 4:00 PM over Microsoft Teams. Don’t let Covid-19  keep you from networking and growing your business. We would love to talk with you about our upcoming opportunities! \nFlyer: Virtual Open House_June 10 \n2:00 – 4:00 PM General Workforce Development & MWBE Goals \nModerators: Jeremy Hamm | Click Here for Teams  link \n2:00 – 4:00 PM Site & Structure \nModerators: Max Swienton\, Jack Cavanagh & Adam Fish | Click Here for Teams    link \n2:00 – 4:00 PM Finishes/GC Services \nModerators: Lucy Donaldson & Trae Field | Click Here for Teams   Link \n2:00 – 3:00 PM Electrical/Low Volt \nModerators: Marlee Bivins & Alonso Chavez | Click here for Teams   Link \n3:00 – 4:00 PM Mechanical\, Plumbing & Fire Protection \nModerators: Marlee Bivins & Alonso Chavez | Click Here for Teams   link
URL:https://nationalwesterncenter.com/event/whiting-turner-equestrian-center-m-wbe-virtual-open-house-2/
LOCATION:CO
ATTACH;FMTTYPE=image/png:https://nationalwesterncenter.com/wp-content/uploads/2020/04/wt-orange.png
END:VEVENT
BEGIN:VEVENT
DTSTART;TZID=America/Denver:20200618T090000
DTEND;TZID=America/Denver:20200618T120000
DTSTAMP:20260424T043717
CREATED:20200714T142234Z
LAST-MODIFIED:20200714T142234Z
UID:10003042-1592470800-1592481600@nationalwesterncenter.com
SUMMARY:National Western Center Authority Board of Directors meeting
DESCRIPTION:View details at the Board of Directors page.
URL:https://nationalwesterncenter.com/event/national-western-center-authority-board-of-directors-meeting/
LOCATION:CO
END:VEVENT
END:VCALENDAR