BEGIN:VCALENDAR
VERSION:2.0
PRODID:-//National Western Center - ECPv6.15.16//NONSGML v1.0//EN
CALSCALE:GREGORIAN
METHOD:PUBLISH
X-WR-CALNAME:National Western Center
X-ORIGINAL-URL:https://nationalwesterncenter.com
X-WR-CALDESC:Events for National Western Center
REFRESH-INTERVAL;VALUE=DURATION:PT1H
X-Robots-Tag:noindex
X-PUBLISHED-TTL:PT1H
BEGIN:VTIMEZONE
TZID:America/Denver
BEGIN:DAYLIGHT
TZOFFSETFROM:-0700
TZOFFSETTO:-0600
TZNAME:MDT
DTSTART:20190310T090000
END:DAYLIGHT
BEGIN:STANDARD
TZOFFSETFROM:-0600
TZOFFSETTO:-0700
TZNAME:MST
DTSTART:20191103T080000
END:STANDARD
BEGIN:DAYLIGHT
TZOFFSETFROM:-0700
TZOFFSETTO:-0600
TZNAME:MDT
DTSTART:20200308T090000
END:DAYLIGHT
BEGIN:STANDARD
TZOFFSETFROM:-0600
TZOFFSETTO:-0700
TZNAME:MST
DTSTART:20201101T080000
END:STANDARD
BEGIN:DAYLIGHT
TZOFFSETFROM:-0700
TZOFFSETTO:-0600
TZNAME:MDT
DTSTART:20210314T090000
END:DAYLIGHT
BEGIN:STANDARD
TZOFFSETFROM:-0600
TZOFFSETTO:-0700
TZNAME:MST
DTSTART:20211107T080000
END:STANDARD
END:VTIMEZONE
BEGIN:VEVENT
DTSTART;TZID=America/Denver:20200401T173000
DTEND;TZID=America/Denver:20200401T183000
DTSTAMP:20260423T155352
CREATED:20200326T202551Z
LAST-MODIFIED:20200326T212602Z
UID:10003583-1585762200-1585765800@nationalwesterncenter.com
SUMMARY:Triangle Telephone Town Hall
DESCRIPTION:The Performance Based Infrastructure Office (PBI) will hold an informational telephone town hall call from 5:30 pm – 6:30 pm as a broad update on the state of affairs in the City\, and as it relates to the Triangle project. Working collaboratively to create a public review process of the equity package remains a top priority for the City’s Triangle team. Email celia.herrera@denvergov.org with any comments or suggestions. \nTriangle Telephone Town Hall | Informational Update Call \nWednesday April 1\, 2020\n5:30 to 6:30 p.m.\n \nFor English dial: 855-274-0644 \nFor Spanish dial: 855-962-1026
URL:https://nationalwesterncenter.com/event/triangle-telephone-town-hall/
LOCATION:CO
END:VEVENT
BEGIN:VEVENT
DTSTART;TZID=America/Denver:20200429T130000
DTEND;TZID=America/Denver:20200429T160000
DTSTAMP:20260423T155352
CREATED:20200428T160805Z
LAST-MODIFIED:20200428T161600Z
UID:10003584-1588165200-1588176000@nationalwesterncenter.com
SUMMARY:Whiting-Turner M/WBE Virtual Open House
DESCRIPTION:Whiting-Turner Equestrian Center M/WBE Virtual Open House \nWe would like to invite you all to our Virtual MWBE Open house that will take place this Wednesday April 29th from 1:00 PM to 4:00 PM over Microsoft Teams. Don’t let Covid-19  keep you from networking and growing your business. We would love to talk with you about our upcoming Opportunities. \nClick on any of the links below to between 1:00 and 4:00 PM this Wednesday April 29th to enter the virtual Conference Rooms: \nClick on the Conference Room Link that is most related to your business.  If in doubt\, please visit the General Workforce Development & MWBE Goals Room. \n  \n\nGeneral Workforce Development & MWBE Goals:  Conference Room – Teams Link \n\nModerators:  Jeremy Hamm\n\n\nFinishes: Conference Room – Teams Link\n\nModerator: Lucy Donaldson\n\n\nMechanical\, Electrical\, & Plumbing: T Conference Room  Conference Room – Teams Link\n\nModerators: Marlee Bivins & Alonso Chavez\n\n\nStructure: Conference Room – Teams Link\n\nModerators: Jack Cavanagh & Adam Fish\n\n\nEarthwork and Site: Conference Room – Teams Link\n\nModerator: Max Swienton\n\n\nGC Services (Supplies\, Laborers\, Rental Equipment\,)  Conference Room – Teams Link\n\nModerator: Trae Field\n\n\n\nWe are looking forward to meeting with you and learning more about your companies.
URL:https://nationalwesterncenter.com/event/whiting-turner-m-wbw-virtual-open-house/
LOCATION:CO
END:VEVENT
END:VCALENDAR