BEGIN:VCALENDAR
VERSION:2.0
PRODID:-//National Western Center - ECPv6.15.16//NONSGML v1.0//EN
CALSCALE:GREGORIAN
METHOD:PUBLISH
X-WR-CALNAME:National Western Center
X-ORIGINAL-URL:https://nationalwesterncenter.com
X-WR-CALDESC:Events for National Western Center
REFRESH-INTERVAL;VALUE=DURATION:PT1H
X-Robots-Tag:noindex
X-PUBLISHED-TTL:PT1H
BEGIN:VTIMEZONE
TZID:America/Denver
BEGIN:DAYLIGHT
TZOFFSETFROM:-0700
TZOFFSETTO:-0600
TZNAME:MDT
DTSTART:20190310T090000
END:DAYLIGHT
BEGIN:STANDARD
TZOFFSETFROM:-0600
TZOFFSETTO:-0700
TZNAME:MST
DTSTART:20191103T080000
END:STANDARD
BEGIN:DAYLIGHT
TZOFFSETFROM:-0700
TZOFFSETTO:-0600
TZNAME:MDT
DTSTART:20200308T090000
END:DAYLIGHT
BEGIN:STANDARD
TZOFFSETFROM:-0600
TZOFFSETTO:-0700
TZNAME:MST
DTSTART:20201101T080000
END:STANDARD
BEGIN:DAYLIGHT
TZOFFSETFROM:-0700
TZOFFSETTO:-0600
TZNAME:MDT
DTSTART:20210314T090000
END:DAYLIGHT
BEGIN:STANDARD
TZOFFSETFROM:-0600
TZOFFSETTO:-0700
TZNAME:MST
DTSTART:20211107T080000
END:STANDARD
END:VTIMEZONE
BEGIN:VEVENT
DTSTART;TZID=America/Denver:20200117T100000
DTEND;TZID=America/Denver:20200117T120000
DTSTAMP:20260425T123145
CREATED:20200113T235338Z
LAST-MODIFIED:20200113T235338Z
UID:10003015-1579255200-1579262400@nationalwesterncenter.com
SUMMARY:Pre-Bid Information Meeting
DESCRIPTION:Optional Pre-Bid Information Meeting: Heavy Civil General Contractors for Pad Ready Construction to enable the CSU/Spur Water\, CSU/Spur Food and Bettie Cram Drive \nJan. 17\, 2020\, 10 a.m. MST\nHensel Phelps Field Office\n5115 Race Court\, Denver\, Colo. 80216 \nSite Visit – 11 a.m. MST\nImmediately following the information session. Full PPE is required. \nThe Mayor’s Office of the National Western Center (NWCO) and the Horizontal Integrated Contractor (HIC) Hensel Phelps (HP)\, have issued a Request for Bids for pad ready site construction to enable the Colorado State University Water Building pad ready site (CSU Spur -Water) and Colorado State University Food Building pad ready site (CSU Spur-Food)\, along with development of the Bettie Cram Drive Corridor. Bids for Heavy Civil General Contractors will be accepted. The scope of work includes demo\, earthwork\, detention ponds\, erosion control\, paving\, hardscapes\, landscaping\, and utilities.
URL:https://nationalwesterncenter.com/event/pre-bid-information-meeting-2-2/
LOCATION:CO
ORGANIZER;CN="Hensel Phelps/HIC":MAILTO:kbonde@henselphelps.com
END:VEVENT
BEGIN:VEVENT
DTSTART;TZID=America/Denver:20200124T100000
DTEND;TZID=America/Denver:20200124T110000
DTSTAMP:20260425T123145
CREATED:20200115T000510Z
LAST-MODIFIED:20200115T000510Z
UID:10003017-1579860000-1579863600@nationalwesterncenter.com
SUMMARY:HIC Project Phasing/Constraint Review Meeting
DESCRIPTION:Project Phasing/Constraint Review Meeting:\nJanuary 24\, 2020 at 10:00am MST \nHensel Phelps Field Office \n5115 Race Court\, Denver\, CO 80216 \nAdditional information about this event will be provided at the Jan. 17 pre-bid meeting.
URL:https://nationalwesterncenter.com/event/hic-project-phasing-constraint-review-meeting/
LOCATION:CO
ORGANIZER;CN="Hensel Phelps/HIC":MAILTO:kbonde@henselphelps.com
END:VEVENT
BEGIN:VEVENT
DTSTART;TZID=America/Denver:20200125T093000
DTEND;TZID=America/Denver:20200125T110000
DTSTAMP:20260425T123145
CREATED:20200113T165242Z
LAST-MODIFIED:20200113T165242Z
UID:10003579-1579944600-1579950000@nationalwesterncenter.com
SUMMARY:Triangle at National Western Center Public Meeting
DESCRIPTION:At the community meeting\, the PBI Office will provide an overview of the project and the RFP process\, discuss the elements included in the RFP and gather community feedback on how to implement adopted plans through zoning changes and introduce other items included in the equity package. Representatives from Community Planning and Development\, Denver Economic Development and Opportunity\, Mayor’s Office of the National Western Center and other partner agencies will be in attendance to provide information on various items relating to the project.
URL:https://nationalwesterncenter.com/event/triangle-at-national-western-center-public-meeting/
LOCATION:Swansea Recreation Center\, 2650 E. 49th Ave.\, Denver\, CO\, 80216
ORGANIZER;CN="City and County of Denver's Office of Performance Based Infrastructure":MAILTO:pbi@denvergov.org
END:VEVENT
END:VCALENDAR