BEGIN:VCALENDAR
VERSION:2.0
PRODID:-//National Western Center - ECPv6.15.16//NONSGML v1.0//EN
CALSCALE:GREGORIAN
METHOD:PUBLISH
X-WR-CALNAME:National Western Center
X-ORIGINAL-URL:https://nationalwesterncenter.com
X-WR-CALDESC:Events for National Western Center
REFRESH-INTERVAL;VALUE=DURATION:PT1H
X-Robots-Tag:noindex
X-PUBLISHED-TTL:PT1H
BEGIN:VTIMEZONE
TZID:America/Denver
BEGIN:DAYLIGHT
TZOFFSETFROM:-0700
TZOFFSETTO:-0600
TZNAME:MDT
DTSTART:20180311T090000
END:DAYLIGHT
BEGIN:STANDARD
TZOFFSETFROM:-0600
TZOFFSETTO:-0700
TZNAME:MST
DTSTART:20181104T080000
END:STANDARD
BEGIN:DAYLIGHT
TZOFFSETFROM:-0700
TZOFFSETTO:-0600
TZNAME:MDT
DTSTART:20190310T090000
END:DAYLIGHT
BEGIN:STANDARD
TZOFFSETFROM:-0600
TZOFFSETTO:-0700
TZNAME:MST
DTSTART:20191103T080000
END:STANDARD
BEGIN:DAYLIGHT
TZOFFSETFROM:-0700
TZOFFSETTO:-0600
TZNAME:MDT
DTSTART:20200308T090000
END:DAYLIGHT
BEGIN:STANDARD
TZOFFSETFROM:-0600
TZOFFSETTO:-0700
TZNAME:MST
DTSTART:20201101T080000
END:STANDARD
END:VTIMEZONE
BEGIN:VEVENT
DTSTART;TZID=America/Denver:20191203T130000
DTEND;TZID=America/Denver:20191203T150000
DTSTAMP:20260425T173124
CREATED:20190703T193511Z
LAST-MODIFIED:20190703T193511Z
UID:10002811-1575378000-1575385200@nationalwesterncenter.com
SUMMARY:HIC Job Seeker Office Hours
DESCRIPTION:Learn more about job opportunities by visiting the HIC Field Office for Job Seeker Office Hours\, beginning July 30: \nTuesdays and Thursdays\n1 to 3 p.m.\nHIC Field Office\n5115 Race Court\nDenver\, Colo. 80216 \nInterested in learning more? Visit work-now.org or reach out to Jocelyn Robinson at jrobinson@cccpi.net or 303-619-2589. 
URL:https://nationalwesterncenter.com/event/hic-job-seeker-office-hours-2019-09-05-2/2019-12-03/
LOCATION:HIC Program Office\, 5115 Race Court\, Denver\, CO\, 80216\, United States
END:VEVENT
BEGIN:VEVENT
DTSTART;TZID=America/Denver:20191203T130000
DTEND;TZID=America/Denver:20191203T150000
DTSTAMP:20260425T173124
CREATED:20190703T193511Z
LAST-MODIFIED:20190703T193511Z
UID:10002842-1575378000-1575385200@nationalwesterncenter.com
SUMMARY:HIC Job Seeker Office Hours
DESCRIPTION:Learn more about job opportunities by visiting the HIC Field Office for Job Seeker Office Hours\, beginning July 30: \nTuesdays and Thursdays\n1 to 3 p.m.\nHIC Field Office\n5115 Race Court\nDenver\, Colo. 80216 \nInterested in learning more? Visit work-now.org or reach out to Jocelyn Robinson at jrobinson@cccpi.net or 303-619-2589. 
URL:https://nationalwesterncenter.com/event/hic-job-seeker-office-hours-2019-09-10-2/2019-12-03/
LOCATION:HIC Program Office\, 5115 Race Court\, Denver\, CO\, 80216\, United States
END:VEVENT
BEGIN:VEVENT
DTSTART;TZID=America/Denver:20191203T130000
DTEND;TZID=America/Denver:20191203T150000
DTSTAMP:20260425T173124
CREATED:20190703T193511Z
LAST-MODIFIED:20190703T193511Z
UID:10002873-1575378000-1575385200@nationalwesterncenter.com
SUMMARY:HIC Job Seeker Office Hours
DESCRIPTION:Learn more about job opportunities by visiting the HIC Field Office for Job Seeker Office Hours\, beginning July 30: \nTuesdays and Thursdays\n1 to 3 p.m.\nHIC Field Office\n5115 Race Court\nDenver\, Colo. 80216 \nInterested in learning more? Visit work-now.org or reach out to Jocelyn Robinson at jrobinson@cccpi.net or 303-619-2589. 
URL:https://nationalwesterncenter.com/event/hic-job-seeker-office-hours-2019-09-12-2/2019-12-03/
LOCATION:HIC Program Office\, 5115 Race Court\, Denver\, CO\, 80216\, United States
END:VEVENT
BEGIN:VEVENT
DTSTART;TZID=America/Denver:20191203T130000
DTEND;TZID=America/Denver:20191203T150000
DTSTAMP:20260425T173124
CREATED:20190703T193511Z
LAST-MODIFIED:20190703T193511Z
UID:10002902-1575378000-1575385200@nationalwesterncenter.com
SUMMARY:HIC Job Seeker Office Hours
DESCRIPTION:Learn more about job opportunities by visiting the HIC Field Office for Job Seeker Office Hours\, beginning July 30: \nTuesdays and Thursdays\n1 to 3 p.m.\nHIC Field Office\n5115 Race Court\nDenver\, Colo. 80216 \nInterested in learning more? Visit work-now.org or reach out to Jocelyn Robinson at jrobinson@cccpi.net or 303-619-2589. 
URL:https://nationalwesterncenter.com/event/hic-job-seeker-office-hours-2019-09-17-2/2019-12-03/
LOCATION:HIC Program Office\, 5115 Race Court\, Denver\, CO\, 80216\, United States
END:VEVENT
BEGIN:VEVENT
DTSTART;TZID=America/Denver:20191203T130000
DTEND;TZID=America/Denver:20191203T150000
DTSTAMP:20260425T173124
CREATED:20190703T193511Z
LAST-MODIFIED:20190703T193511Z
UID:10002930-1575378000-1575385200@nationalwesterncenter.com
SUMMARY:HIC Job Seeker Office Hours
DESCRIPTION:Learn more about job opportunities by visiting the HIC Field Office for Job Seeker Office Hours\, beginning July 30: \nTuesdays and Thursdays\n1 to 3 p.m.\nHIC Field Office\n5115 Race Court\nDenver\, Colo. 80216 \nInterested in learning more? Visit work-now.org or reach out to Jocelyn Robinson at jrobinson@cccpi.net or 303-619-2589. 
URL:https://nationalwesterncenter.com/event/hic-job-seeker-office-hours-2019-09-19-2/2019-12-03/
LOCATION:HIC Program Office\, 5115 Race Court\, Denver\, CO\, 80216\, United States
END:VEVENT
BEGIN:VEVENT
DTSTART;TZID=America/Denver:20191203T130000
DTEND;TZID=America/Denver:20191203T150000
DTSTAMP:20260425T173124
CREATED:20190703T193511Z
LAST-MODIFIED:20190703T193511Z
UID:10002957-1575378000-1575385200@nationalwesterncenter.com
SUMMARY:HIC Job Seeker Office Hours
DESCRIPTION:Learn more about job opportunities by visiting the HIC Field Office for Job Seeker Office Hours\, beginning July 30: \nTuesdays and Thursdays\n1 to 3 p.m.\nHIC Field Office\n5115 Race Court\nDenver\, Colo. 80216 \nInterested in learning more? Visit work-now.org or reach out to Jocelyn Robinson at jrobinson@cccpi.net or 303-619-2589. 
URL:https://nationalwesterncenter.com/event/hic-job-seeker-office-hours-2019-09-24-2/2019-12-03/
LOCATION:HIC Program Office\, 5115 Race Court\, Denver\, CO\, 80216\, United States
END:VEVENT
BEGIN:VEVENT
DTSTART;TZID=America/Denver:20191203T130000
DTEND;TZID=America/Denver:20191203T150000
DTSTAMP:20260425T173124
CREATED:20190703T193511Z
LAST-MODIFIED:20190703T193511Z
UID:10002983-1575378000-1575385200@nationalwesterncenter.com
SUMMARY:HIC Job Seeker Office Hours
DESCRIPTION:Learn more about job opportunities by visiting the HIC Field Office for Job Seeker Office Hours\, beginning July 30: \nTuesdays and Thursdays\n1 to 3 p.m.\nHIC Field Office\n5115 Race Court\nDenver\, Colo. 80216 \nInterested in learning more? Visit work-now.org or reach out to Jocelyn Robinson at jrobinson@cccpi.net or 303-619-2589. 
URL:https://nationalwesterncenter.com/event/hic-job-seeker-office-hours-2019-09-26-2/2019-12-03/
LOCATION:HIC Program Office\, 5115 Race Court\, Denver\, CO\, 80216\, United States
END:VEVENT
BEGIN:VEVENT
DTSTART;TZID=America/Denver:20191203T130000
DTEND;TZID=America/Denver:20191203T150000
DTSTAMP:20260425T173124
CREATED:20190703T193511Z
LAST-MODIFIED:20190703T193511Z
UID:10003008-1575378000-1575385200@nationalwesterncenter.com
SUMMARY:HIC Job Seeker Office Hours
DESCRIPTION:Learn more about job opportunities by visiting the HIC Field Office for Job Seeker Office Hours\, beginning July 30: \nTuesdays and Thursdays\n1 to 3 p.m.\nHIC Field Office\n5115 Race Court\nDenver\, Colo. 80216 \nInterested in learning more? Visit work-now.org or reach out to Jocelyn Robinson at jrobinson@cccpi.net or 303-619-2589. 
URL:https://nationalwesterncenter.com/event/hic-job-seeker-office-hours-2019-10-01-2/2019-12-03/
LOCATION:HIC Program Office\, 5115 Race Court\, Denver\, CO\, 80216\, United States
END:VEVENT
BEGIN:VEVENT
DTSTART;TZID=America/Denver:20191203T130000
DTEND;TZID=America/Denver:20191203T150000
DTSTAMP:20260425T173124
CREATED:20190703T193511Z
LAST-MODIFIED:20190703T193511Z
UID:10003210-1575378000-1575385200@nationalwesterncenter.com
SUMMARY:HIC Job Seeker Office Hours
DESCRIPTION:Learn more about job opportunities by visiting the HIC Field Office for Job Seeker Office Hours\, beginning July 30: \nTuesdays and Thursdays\n1 to 3 p.m.\nHIC Field Office\n5115 Race Court\nDenver\, Colo. 80216 \nInterested in learning more? Visit work-now.org or reach out to Jocelyn Robinson at jrobinson@cccpi.net or 303-619-2589. 
URL:https://nationalwesterncenter.com/event/hic-job-seeker-office-hours-2019-08-01-2/2019-12-03/
LOCATION:HIC Program Office\, 5115 Race Court\, Denver\, CO\, 80216\, United States
END:VEVENT
BEGIN:VEVENT
DTSTART;TZID=America/Denver:20191203T130000
DTEND;TZID=America/Denver:20191203T150000
DTSTAMP:20260425T173124
CREATED:20190703T193511Z
LAST-MODIFIED:20190703T193511Z
UID:10003250-1575378000-1575385200@nationalwesterncenter.com
SUMMARY:HIC Job Seeker Office Hours
DESCRIPTION:Learn more about job opportunities by visiting the HIC Field Office for Job Seeker Office Hours\, beginning July 30: \nTuesdays and Thursdays\n1 to 3 p.m.\nHIC Field Office\n5115 Race Court\nDenver\, Colo. 80216 \nInterested in learning more? Visit work-now.org or reach out to Jocelyn Robinson at jrobinson@cccpi.net or 303-619-2589. 
URL:https://nationalwesterncenter.com/event/hic-job-seeker-office-hours-2019-08-06-2/2019-12-03/
LOCATION:HIC Program Office\, 5115 Race Court\, Denver\, CO\, 80216\, United States
END:VEVENT
BEGIN:VEVENT
DTSTART;TZID=America/Denver:20191203T130000
DTEND;TZID=America/Denver:20191203T150000
DTSTAMP:20260425T173124
CREATED:20190703T193511Z
LAST-MODIFIED:20190703T193511Z
UID:10003298-1575378000-1575385200@nationalwesterncenter.com
SUMMARY:HIC Job Seeker Office Hours
DESCRIPTION:Learn more about job opportunities by visiting the HIC Field Office for Job Seeker Office Hours\, beginning July 30: \nTuesdays and Thursdays\n1 to 3 p.m.\nHIC Field Office\n5115 Race Court\nDenver\, Colo. 80216 \nInterested in learning more? Visit work-now.org or reach out to Jocelyn Robinson at jrobinson@cccpi.net or 303-619-2589. 
URL:https://nationalwesterncenter.com/event/hic-job-seeker-office-hours-2019-08-08-2/2019-12-03/
LOCATION:HIC Program Office\, 5115 Race Court\, Denver\, CO\, 80216\, United States
END:VEVENT
BEGIN:VEVENT
DTSTART;TZID=America/Denver:20191203T130000
DTEND;TZID=America/Denver:20191203T150000
DTSTAMP:20260425T173124
CREATED:20190703T193511Z
LAST-MODIFIED:20190703T193511Z
UID:10003339-1575378000-1575385200@nationalwesterncenter.com
SUMMARY:HIC Job Seeker Office Hours
DESCRIPTION:Learn more about job opportunities by visiting the HIC Field Office for Job Seeker Office Hours\, beginning July 30: \nTuesdays and Thursdays\n1 to 3 p.m.\nHIC Field Office\n5115 Race Court\nDenver\, Colo. 80216 \nInterested in learning more? Visit work-now.org or reach out to Jocelyn Robinson at jrobinson@cccpi.net or 303-619-2589. 
URL:https://nationalwesterncenter.com/event/hic-job-seeker-office-hours-2019-08-13-2/2019-12-03/
LOCATION:HIC Program Office\, 5115 Race Court\, Denver\, CO\, 80216\, United States
END:VEVENT
BEGIN:VEVENT
DTSTART;TZID=America/Denver:20191203T130000
DTEND;TZID=America/Denver:20191203T150000
DTSTAMP:20260425T173124
CREATED:20190703T193511Z
LAST-MODIFIED:20190703T193511Z
UID:10003377-1575378000-1575385200@nationalwesterncenter.com
SUMMARY:HIC Job Seeker Office Hours
DESCRIPTION:Learn more about job opportunities by visiting the HIC Field Office for Job Seeker Office Hours\, beginning July 30: \nTuesdays and Thursdays\n1 to 3 p.m.\nHIC Field Office\n5115 Race Court\nDenver\, Colo. 80216 \nInterested in learning more? Visit work-now.org or reach out to Jocelyn Robinson at jrobinson@cccpi.net or 303-619-2589. 
URL:https://nationalwesterncenter.com/event/hic-job-seeker-office-hours-2019-08-15-2/2019-12-03/
LOCATION:HIC Program Office\, 5115 Race Court\, Denver\, CO\, 80216\, United States
END:VEVENT
BEGIN:VEVENT
DTSTART;TZID=America/Denver:20191203T130000
DTEND;TZID=America/Denver:20191203T150000
DTSTAMP:20260425T173124
CREATED:20190703T193511Z
LAST-MODIFIED:20190703T193511Z
UID:10003414-1575378000-1575385200@nationalwesterncenter.com
SUMMARY:HIC Job Seeker Office Hours
DESCRIPTION:Learn more about job opportunities by visiting the HIC Field Office for Job Seeker Office Hours\, beginning July 30: \nTuesdays and Thursdays\n1 to 3 p.m.\nHIC Field Office\n5115 Race Court\nDenver\, Colo. 80216 \nInterested in learning more? Visit work-now.org or reach out to Jocelyn Robinson at jrobinson@cccpi.net or 303-619-2589. 
URL:https://nationalwesterncenter.com/event/hic-job-seeker-office-hours-2019-08-20-2/2019-12-03/
LOCATION:HIC Program Office\, 5115 Race Court\, Denver\, CO\, 80216\, United States
END:VEVENT
BEGIN:VEVENT
DTSTART;TZID=America/Denver:20191203T130000
DTEND;TZID=America/Denver:20191203T150000
DTSTAMP:20260425T173124
CREATED:20190703T193511Z
LAST-MODIFIED:20190703T193511Z
UID:10003449-1575378000-1575385200@nationalwesterncenter.com
SUMMARY:HIC Job Seeker Office Hours
DESCRIPTION:Learn more about job opportunities by visiting the HIC Field Office for Job Seeker Office Hours\, beginning July 30: \nTuesdays and Thursdays\n1 to 3 p.m.\nHIC Field Office\n5115 Race Court\nDenver\, Colo. 80216 \nInterested in learning more? Visit work-now.org or reach out to Jocelyn Robinson at jrobinson@cccpi.net or 303-619-2589. 
URL:https://nationalwesterncenter.com/event/hic-job-seeker-office-hours-2019-08-22-2/2019-12-03/
LOCATION:HIC Program Office\, 5115 Race Court\, Denver\, CO\, 80216\, United States
END:VEVENT
BEGIN:VEVENT
DTSTART;TZID=America/Denver:20191203T130000
DTEND;TZID=America/Denver:20191203T150000
DTSTAMP:20260425T173124
CREATED:20190703T193511Z
LAST-MODIFIED:20190703T193511Z
UID:10003483-1575378000-1575385200@nationalwesterncenter.com
SUMMARY:HIC Job Seeker Office Hours
DESCRIPTION:Learn more about job opportunities by visiting the HIC Field Office for Job Seeker Office Hours\, beginning July 30: \nTuesdays and Thursdays\n1 to 3 p.m.\nHIC Field Office\n5115 Race Court\nDenver\, Colo. 80216 \nInterested in learning more? Visit work-now.org or reach out to Jocelyn Robinson at jrobinson@cccpi.net or 303-619-2589. 
URL:https://nationalwesterncenter.com/event/hic-job-seeker-office-hours-2019-08-27-2/2019-12-03/
LOCATION:HIC Program Office\, 5115 Race Court\, Denver\, CO\, 80216\, United States
END:VEVENT
BEGIN:VEVENT
DTSTART;TZID=America/Denver:20191203T130000
DTEND;TZID=America/Denver:20191203T150000
DTSTAMP:20260425T173124
CREATED:20190703T193511Z
LAST-MODIFIED:20190703T193511Z
UID:10003516-1575378000-1575385200@nationalwesterncenter.com
SUMMARY:HIC Job Seeker Office Hours
DESCRIPTION:Learn more about job opportunities by visiting the HIC Field Office for Job Seeker Office Hours\, beginning July 30: \nTuesdays and Thursdays\n1 to 3 p.m.\nHIC Field Office\n5115 Race Court\nDenver\, Colo. 80216 \nInterested in learning more? Visit work-now.org or reach out to Jocelyn Robinson at jrobinson@cccpi.net or 303-619-2589. 
URL:https://nationalwesterncenter.com/event/hic-job-seeker-office-hours-2019-08-29-2/2019-12-03/
LOCATION:HIC Program Office\, 5115 Race Court\, Denver\, CO\, 80216\, United States
END:VEVENT
BEGIN:VEVENT
DTSTART;TZID=America/Denver:20191203T130000
DTEND;TZID=America/Denver:20191203T150000
DTSTAMP:20260425T173124
CREATED:20190703T193511Z
LAST-MODIFIED:20190703T193511Z
UID:10003548-1575378000-1575385200@nationalwesterncenter.com
SUMMARY:HIC Job Seeker Office Hours
DESCRIPTION:Learn more about job opportunities by visiting the HIC Field Office for Job Seeker Office Hours\, beginning July 30: \nTuesdays and Thursdays\n1 to 3 p.m.\nHIC Field Office\n5115 Race Court\nDenver\, Colo. 80216 \nInterested in learning more? Visit work-now.org or reach out to Jocelyn Robinson at jrobinson@cccpi.net or 303-619-2589. 
URL:https://nationalwesterncenter.com/event/hic-job-seeker-office-hours-2019-09-03-2/2019-12-03/
LOCATION:HIC Program Office\, 5115 Race Court\, Denver\, CO\, 80216\, United States
END:VEVENT
BEGIN:VEVENT
DTSTART;TZID=America/Denver:20191205T130000
DTEND;TZID=America/Denver:20191205T150000
DTSTAMP:20260425T173124
CREATED:20190703T193511Z
LAST-MODIFIED:20190703T193511Z
UID:10002812-1575550800-1575558000@nationalwesterncenter.com
SUMMARY:HIC Job Seeker Office Hours
DESCRIPTION:Learn more about job opportunities by visiting the HIC Field Office for Job Seeker Office Hours\, beginning July 30: \nTuesdays and Thursdays\n1 to 3 p.m.\nHIC Field Office\n5115 Race Court\nDenver\, Colo. 80216 \nInterested in learning more? Visit work-now.org or reach out to Jocelyn Robinson at jrobinson@cccpi.net or 303-619-2589. 
URL:https://nationalwesterncenter.com/event/hic-job-seeker-office-hours-2019-09-05-2/2019-12-05/
LOCATION:HIC Program Office\, 5115 Race Court\, Denver\, CO\, 80216\, United States
END:VEVENT
BEGIN:VEVENT
DTSTART;TZID=America/Denver:20191205T130000
DTEND;TZID=America/Denver:20191205T150000
DTSTAMP:20260425T173124
CREATED:20190703T193511Z
LAST-MODIFIED:20190703T193511Z
UID:10002843-1575550800-1575558000@nationalwesterncenter.com
SUMMARY:HIC Job Seeker Office Hours
DESCRIPTION:Learn more about job opportunities by visiting the HIC Field Office for Job Seeker Office Hours\, beginning July 30: \nTuesdays and Thursdays\n1 to 3 p.m.\nHIC Field Office\n5115 Race Court\nDenver\, Colo. 80216 \nInterested in learning more? Visit work-now.org or reach out to Jocelyn Robinson at jrobinson@cccpi.net or 303-619-2589. 
URL:https://nationalwesterncenter.com/event/hic-job-seeker-office-hours-2019-09-10-2/2019-12-05/
LOCATION:HIC Program Office\, 5115 Race Court\, Denver\, CO\, 80216\, United States
END:VEVENT
BEGIN:VEVENT
DTSTART;TZID=America/Denver:20191205T130000
DTEND;TZID=America/Denver:20191205T150000
DTSTAMP:20260425T173124
CREATED:20190703T193511Z
LAST-MODIFIED:20190703T193511Z
UID:10002874-1575550800-1575558000@nationalwesterncenter.com
SUMMARY:HIC Job Seeker Office Hours
DESCRIPTION:Learn more about job opportunities by visiting the HIC Field Office for Job Seeker Office Hours\, beginning July 30: \nTuesdays and Thursdays\n1 to 3 p.m.\nHIC Field Office\n5115 Race Court\nDenver\, Colo. 80216 \nInterested in learning more? Visit work-now.org or reach out to Jocelyn Robinson at jrobinson@cccpi.net or 303-619-2589. 
URL:https://nationalwesterncenter.com/event/hic-job-seeker-office-hours-2019-09-12-2/2019-12-05/
LOCATION:HIC Program Office\, 5115 Race Court\, Denver\, CO\, 80216\, United States
END:VEVENT
BEGIN:VEVENT
DTSTART;TZID=America/Denver:20191205T130000
DTEND;TZID=America/Denver:20191205T150000
DTSTAMP:20260425T173124
CREATED:20190703T193511Z
LAST-MODIFIED:20190703T193511Z
UID:10002903-1575550800-1575558000@nationalwesterncenter.com
SUMMARY:HIC Job Seeker Office Hours
DESCRIPTION:Learn more about job opportunities by visiting the HIC Field Office for Job Seeker Office Hours\, beginning July 30: \nTuesdays and Thursdays\n1 to 3 p.m.\nHIC Field Office\n5115 Race Court\nDenver\, Colo. 80216 \nInterested in learning more? Visit work-now.org or reach out to Jocelyn Robinson at jrobinson@cccpi.net or 303-619-2589. 
URL:https://nationalwesterncenter.com/event/hic-job-seeker-office-hours-2019-09-17-2/2019-12-05/
LOCATION:HIC Program Office\, 5115 Race Court\, Denver\, CO\, 80216\, United States
END:VEVENT
BEGIN:VEVENT
DTSTART;TZID=America/Denver:20191205T130000
DTEND;TZID=America/Denver:20191205T150000
DTSTAMP:20260425T173124
CREATED:20190703T193511Z
LAST-MODIFIED:20190703T193511Z
UID:10002931-1575550800-1575558000@nationalwesterncenter.com
SUMMARY:HIC Job Seeker Office Hours
DESCRIPTION:Learn more about job opportunities by visiting the HIC Field Office for Job Seeker Office Hours\, beginning July 30: \nTuesdays and Thursdays\n1 to 3 p.m.\nHIC Field Office\n5115 Race Court\nDenver\, Colo. 80216 \nInterested in learning more? Visit work-now.org or reach out to Jocelyn Robinson at jrobinson@cccpi.net or 303-619-2589. 
URL:https://nationalwesterncenter.com/event/hic-job-seeker-office-hours-2019-09-19-2/2019-12-05/
LOCATION:HIC Program Office\, 5115 Race Court\, Denver\, CO\, 80216\, United States
END:VEVENT
BEGIN:VEVENT
DTSTART;TZID=America/Denver:20191205T130000
DTEND;TZID=America/Denver:20191205T150000
DTSTAMP:20260425T173124
CREATED:20190703T193511Z
LAST-MODIFIED:20190703T193511Z
UID:10002958-1575550800-1575558000@nationalwesterncenter.com
SUMMARY:HIC Job Seeker Office Hours
DESCRIPTION:Learn more about job opportunities by visiting the HIC Field Office for Job Seeker Office Hours\, beginning July 30: \nTuesdays and Thursdays\n1 to 3 p.m.\nHIC Field Office\n5115 Race Court\nDenver\, Colo. 80216 \nInterested in learning more? Visit work-now.org or reach out to Jocelyn Robinson at jrobinson@cccpi.net or 303-619-2589. 
URL:https://nationalwesterncenter.com/event/hic-job-seeker-office-hours-2019-09-24-2/2019-12-05/
LOCATION:HIC Program Office\, 5115 Race Court\, Denver\, CO\, 80216\, United States
END:VEVENT
BEGIN:VEVENT
DTSTART;TZID=America/Denver:20191205T130000
DTEND;TZID=America/Denver:20191205T150000
DTSTAMP:20260425T173124
CREATED:20190703T193511Z
LAST-MODIFIED:20190703T193511Z
UID:10002984-1575550800-1575558000@nationalwesterncenter.com
SUMMARY:HIC Job Seeker Office Hours
DESCRIPTION:Learn more about job opportunities by visiting the HIC Field Office for Job Seeker Office Hours\, beginning July 30: \nTuesdays and Thursdays\n1 to 3 p.m.\nHIC Field Office\n5115 Race Court\nDenver\, Colo. 80216 \nInterested in learning more? Visit work-now.org or reach out to Jocelyn Robinson at jrobinson@cccpi.net or 303-619-2589. 
URL:https://nationalwesterncenter.com/event/hic-job-seeker-office-hours-2019-09-26-2/2019-12-05/
LOCATION:HIC Program Office\, 5115 Race Court\, Denver\, CO\, 80216\, United States
END:VEVENT
BEGIN:VEVENT
DTSTART;TZID=America/Denver:20191205T130000
DTEND;TZID=America/Denver:20191205T150000
DTSTAMP:20260425T173124
CREATED:20190703T193511Z
LAST-MODIFIED:20190703T193511Z
UID:10003009-1575550800-1575558000@nationalwesterncenter.com
SUMMARY:HIC Job Seeker Office Hours
DESCRIPTION:Learn more about job opportunities by visiting the HIC Field Office for Job Seeker Office Hours\, beginning July 30: \nTuesdays and Thursdays\n1 to 3 p.m.\nHIC Field Office\n5115 Race Court\nDenver\, Colo. 80216 \nInterested in learning more? Visit work-now.org or reach out to Jocelyn Robinson at jrobinson@cccpi.net or 303-619-2589. 
URL:https://nationalwesterncenter.com/event/hic-job-seeker-office-hours-2019-10-01-2/2019-12-05/
LOCATION:HIC Program Office\, 5115 Race Court\, Denver\, CO\, 80216\, United States
END:VEVENT
BEGIN:VEVENT
DTSTART;TZID=America/Denver:20191205T130000
DTEND;TZID=America/Denver:20191205T150000
DTSTAMP:20260425T173124
CREATED:20190703T193511Z
LAST-MODIFIED:20190703T193511Z
UID:10003211-1575550800-1575558000@nationalwesterncenter.com
SUMMARY:HIC Job Seeker Office Hours
DESCRIPTION:Learn more about job opportunities by visiting the HIC Field Office for Job Seeker Office Hours\, beginning July 30: \nTuesdays and Thursdays\n1 to 3 p.m.\nHIC Field Office\n5115 Race Court\nDenver\, Colo. 80216 \nInterested in learning more? Visit work-now.org or reach out to Jocelyn Robinson at jrobinson@cccpi.net or 303-619-2589. 
URL:https://nationalwesterncenter.com/event/hic-job-seeker-office-hours-2019-08-01-2/2019-12-05/
LOCATION:HIC Program Office\, 5115 Race Court\, Denver\, CO\, 80216\, United States
END:VEVENT
BEGIN:VEVENT
DTSTART;TZID=America/Denver:20191205T130000
DTEND;TZID=America/Denver:20191205T150000
DTSTAMP:20260425T173124
CREATED:20190703T193511Z
LAST-MODIFIED:20190703T193511Z
UID:10003251-1575550800-1575558000@nationalwesterncenter.com
SUMMARY:HIC Job Seeker Office Hours
DESCRIPTION:Learn more about job opportunities by visiting the HIC Field Office for Job Seeker Office Hours\, beginning July 30: \nTuesdays and Thursdays\n1 to 3 p.m.\nHIC Field Office\n5115 Race Court\nDenver\, Colo. 80216 \nInterested in learning more? Visit work-now.org or reach out to Jocelyn Robinson at jrobinson@cccpi.net or 303-619-2589. 
URL:https://nationalwesterncenter.com/event/hic-job-seeker-office-hours-2019-08-06-2/2019-12-05/
LOCATION:HIC Program Office\, 5115 Race Court\, Denver\, CO\, 80216\, United States
END:VEVENT
BEGIN:VEVENT
DTSTART;TZID=America/Denver:20191205T130000
DTEND;TZID=America/Denver:20191205T150000
DTSTAMP:20260425T173124
CREATED:20190703T193511Z
LAST-MODIFIED:20190703T193511Z
UID:10003299-1575550800-1575558000@nationalwesterncenter.com
SUMMARY:HIC Job Seeker Office Hours
DESCRIPTION:Learn more about job opportunities by visiting the HIC Field Office for Job Seeker Office Hours\, beginning July 30: \nTuesdays and Thursdays\n1 to 3 p.m.\nHIC Field Office\n5115 Race Court\nDenver\, Colo. 80216 \nInterested in learning more? Visit work-now.org or reach out to Jocelyn Robinson at jrobinson@cccpi.net or 303-619-2589. 
URL:https://nationalwesterncenter.com/event/hic-job-seeker-office-hours-2019-08-08-2/2019-12-05/
LOCATION:HIC Program Office\, 5115 Race Court\, Denver\, CO\, 80216\, United States
END:VEVENT
BEGIN:VEVENT
DTSTART;TZID=America/Denver:20191205T130000
DTEND;TZID=America/Denver:20191205T150000
DTSTAMP:20260425T173124
CREATED:20190703T193511Z
LAST-MODIFIED:20190703T193511Z
UID:10003340-1575550800-1575558000@nationalwesterncenter.com
SUMMARY:HIC Job Seeker Office Hours
DESCRIPTION:Learn more about job opportunities by visiting the HIC Field Office for Job Seeker Office Hours\, beginning July 30: \nTuesdays and Thursdays\n1 to 3 p.m.\nHIC Field Office\n5115 Race Court\nDenver\, Colo. 80216 \nInterested in learning more? Visit work-now.org or reach out to Jocelyn Robinson at jrobinson@cccpi.net or 303-619-2589. 
URL:https://nationalwesterncenter.com/event/hic-job-seeker-office-hours-2019-08-13-2/2019-12-05/
LOCATION:HIC Program Office\, 5115 Race Court\, Denver\, CO\, 80216\, United States
END:VEVENT
END:VCALENDAR