BEGIN:VCALENDAR
VERSION:2.0
PRODID:-//National Western Center - ECPv6.15.16//NONSGML v1.0//EN
CALSCALE:GREGORIAN
METHOD:PUBLISH
X-ORIGINAL-URL:https://nationalwesterncenter.com
X-WR-CALDESC:Events for National Western Center
REFRESH-INTERVAL;VALUE=DURATION:PT1H
X-Robots-Tag:noindex
X-PUBLISHED-TTL:PT1H
BEGIN:VTIMEZONE
TZID:America/Denver
BEGIN:DAYLIGHT
TZOFFSETFROM:-0700
TZOFFSETTO:-0600
TZNAME:MDT
DTSTART:20180311T090000
END:DAYLIGHT
BEGIN:STANDARD
TZOFFSETFROM:-0600
TZOFFSETTO:-0700
TZNAME:MST
DTSTART:20181104T080000
END:STANDARD
BEGIN:DAYLIGHT
TZOFFSETFROM:-0700
TZOFFSETTO:-0600
TZNAME:MDT
DTSTART:20190310T090000
END:DAYLIGHT
BEGIN:STANDARD
TZOFFSETFROM:-0600
TZOFFSETTO:-0700
TZNAME:MST
DTSTART:20191103T080000
END:STANDARD
BEGIN:DAYLIGHT
TZOFFSETFROM:-0700
TZOFFSETTO:-0600
TZNAME:MDT
DTSTART:20200308T090000
END:DAYLIGHT
BEGIN:STANDARD
TZOFFSETFROM:-0600
TZOFFSETTO:-0700
TZNAME:MST
DTSTART:20201101T080000
END:STANDARD
END:VTIMEZONE
BEGIN:VEVENT
DTSTART;TZID=America/Denver:20191105T130000
DTEND;TZID=America/Denver:20191105T150000
DTSTAMP:20260425T175434
CREATED:20190703T193511Z
LAST-MODIFIED:20190703T193511Z
UID:10002803-1572958800-1572966000@nationalwesterncenter.com
SUMMARY:HIC Job Seeker Office Hours
DESCRIPTION:Learn more about job opportunities by visiting the HIC Field Office for Job Seeker Office Hours\, beginning July 30: \nTuesdays and Thursdays\n1 to 3 p.m.\nHIC Field Office\n5115 Race Court\nDenver\, Colo. 80216 \nInterested in learning more? Visit work-now.org or reach out to Jocelyn Robinson at jrobinson@cccpi.net or 303-619-2589. 
URL:https://nationalwesterncenter.com/event/hic-job-seeker-office-hours-2019-09-05-2/2019-11-05/
LOCATION:HIC Program Office\, 5115 Race Court\, Denver\, CO\, 80216\, United States
END:VEVENT
BEGIN:VEVENT
DTSTART;TZID=America/Denver:20191105T130000
DTEND;TZID=America/Denver:20191105T150000
DTSTAMP:20260425T175434
CREATED:20190703T193511Z
LAST-MODIFIED:20190703T193511Z
UID:10002834-1572958800-1572966000@nationalwesterncenter.com
SUMMARY:HIC Job Seeker Office Hours
DESCRIPTION:Learn more about job opportunities by visiting the HIC Field Office for Job Seeker Office Hours\, beginning July 30: \nTuesdays and Thursdays\n1 to 3 p.m.\nHIC Field Office\n5115 Race Court\nDenver\, Colo. 80216 \nInterested in learning more? Visit work-now.org or reach out to Jocelyn Robinson at jrobinson@cccpi.net or 303-619-2589. 
URL:https://nationalwesterncenter.com/event/hic-job-seeker-office-hours-2019-09-10-2/2019-11-05/
LOCATION:HIC Program Office\, 5115 Race Court\, Denver\, CO\, 80216\, United States
END:VEVENT
BEGIN:VEVENT
DTSTART;TZID=America/Denver:20191105T130000
DTEND;TZID=America/Denver:20191105T150000
DTSTAMP:20260425T175434
CREATED:20190703T193511Z
LAST-MODIFIED:20190703T193511Z
UID:10002865-1572958800-1572966000@nationalwesterncenter.com
SUMMARY:HIC Job Seeker Office Hours
DESCRIPTION:Learn more about job opportunities by visiting the HIC Field Office for Job Seeker Office Hours\, beginning July 30: \nTuesdays and Thursdays\n1 to 3 p.m.\nHIC Field Office\n5115 Race Court\nDenver\, Colo. 80216 \nInterested in learning more? Visit work-now.org or reach out to Jocelyn Robinson at jrobinson@cccpi.net or 303-619-2589. 
URL:https://nationalwesterncenter.com/event/hic-job-seeker-office-hours-2019-09-12-2/2019-11-05/
LOCATION:HIC Program Office\, 5115 Race Court\, Denver\, CO\, 80216\, United States
END:VEVENT
BEGIN:VEVENT
DTSTART;TZID=America/Denver:20191105T130000
DTEND;TZID=America/Denver:20191105T150000
DTSTAMP:20260425T175434
CREATED:20190703T193511Z
LAST-MODIFIED:20190703T193511Z
UID:10002894-1572958800-1572966000@nationalwesterncenter.com
SUMMARY:HIC Job Seeker Office Hours
DESCRIPTION:Learn more about job opportunities by visiting the HIC Field Office for Job Seeker Office Hours\, beginning July 30: \nTuesdays and Thursdays\n1 to 3 p.m.\nHIC Field Office\n5115 Race Court\nDenver\, Colo. 80216 \nInterested in learning more? Visit work-now.org or reach out to Jocelyn Robinson at jrobinson@cccpi.net or 303-619-2589. 
URL:https://nationalwesterncenter.com/event/hic-job-seeker-office-hours-2019-09-17-2/2019-11-05/
LOCATION:HIC Program Office\, 5115 Race Court\, Denver\, CO\, 80216\, United States
END:VEVENT
BEGIN:VEVENT
DTSTART;TZID=America/Denver:20191105T130000
DTEND;TZID=America/Denver:20191105T150000
DTSTAMP:20260425T175434
CREATED:20190703T193511Z
LAST-MODIFIED:20190703T193511Z
UID:10002922-1572958800-1572966000@nationalwesterncenter.com
SUMMARY:HIC Job Seeker Office Hours
DESCRIPTION:Learn more about job opportunities by visiting the HIC Field Office for Job Seeker Office Hours\, beginning July 30: \nTuesdays and Thursdays\n1 to 3 p.m.\nHIC Field Office\n5115 Race Court\nDenver\, Colo. 80216 \nInterested in learning more? Visit work-now.org or reach out to Jocelyn Robinson at jrobinson@cccpi.net or 303-619-2589. 
URL:https://nationalwesterncenter.com/event/hic-job-seeker-office-hours-2019-09-19-2/2019-11-05/
LOCATION:HIC Program Office\, 5115 Race Court\, Denver\, CO\, 80216\, United States
END:VEVENT
BEGIN:VEVENT
DTSTART;TZID=America/Denver:20191105T130000
DTEND;TZID=America/Denver:20191105T150000
DTSTAMP:20260425T175434
CREATED:20190703T193511Z
LAST-MODIFIED:20190703T193511Z
UID:10002949-1572958800-1572966000@nationalwesterncenter.com
SUMMARY:HIC Job Seeker Office Hours
DESCRIPTION:Learn more about job opportunities by visiting the HIC Field Office for Job Seeker Office Hours\, beginning July 30: \nTuesdays and Thursdays\n1 to 3 p.m.\nHIC Field Office\n5115 Race Court\nDenver\, Colo. 80216 \nInterested in learning more? Visit work-now.org or reach out to Jocelyn Robinson at jrobinson@cccpi.net or 303-619-2589. 
URL:https://nationalwesterncenter.com/event/hic-job-seeker-office-hours-2019-09-24-2/2019-11-05/
LOCATION:HIC Program Office\, 5115 Race Court\, Denver\, CO\, 80216\, United States
END:VEVENT
BEGIN:VEVENT
DTSTART;TZID=America/Denver:20191105T130000
DTEND;TZID=America/Denver:20191105T150000
DTSTAMP:20260425T175434
CREATED:20190703T193511Z
LAST-MODIFIED:20190703T193511Z
UID:10002975-1572958800-1572966000@nationalwesterncenter.com
SUMMARY:HIC Job Seeker Office Hours
DESCRIPTION:Learn more about job opportunities by visiting the HIC Field Office for Job Seeker Office Hours\, beginning July 30: \nTuesdays and Thursdays\n1 to 3 p.m.\nHIC Field Office\n5115 Race Court\nDenver\, Colo. 80216 \nInterested in learning more? Visit work-now.org or reach out to Jocelyn Robinson at jrobinson@cccpi.net or 303-619-2589. 
URL:https://nationalwesterncenter.com/event/hic-job-seeker-office-hours-2019-09-26-2/2019-11-05/
LOCATION:HIC Program Office\, 5115 Race Court\, Denver\, CO\, 80216\, United States
END:VEVENT
BEGIN:VEVENT
DTSTART;TZID=America/Denver:20191105T130000
DTEND;TZID=America/Denver:20191105T150000
DTSTAMP:20260425T175434
CREATED:20190703T193511Z
LAST-MODIFIED:20190703T193511Z
UID:10003000-1572958800-1572966000@nationalwesterncenter.com
SUMMARY:HIC Job Seeker Office Hours
DESCRIPTION:Learn more about job opportunities by visiting the HIC Field Office for Job Seeker Office Hours\, beginning July 30: \nTuesdays and Thursdays\n1 to 3 p.m.\nHIC Field Office\n5115 Race Court\nDenver\, Colo. 80216 \nInterested in learning more? Visit work-now.org or reach out to Jocelyn Robinson at jrobinson@cccpi.net or 303-619-2589. 
URL:https://nationalwesterncenter.com/event/hic-job-seeker-office-hours-2019-10-01-2/2019-11-05/
LOCATION:HIC Program Office\, 5115 Race Court\, Denver\, CO\, 80216\, United States
END:VEVENT
BEGIN:VEVENT
DTSTART;TZID=America/Denver:20191105T130000
DTEND;TZID=America/Denver:20191105T150000
DTSTAMP:20260425T175434
CREATED:20190703T193511Z
LAST-MODIFIED:20190703T193511Z
UID:10003202-1572958800-1572966000@nationalwesterncenter.com
SUMMARY:HIC Job Seeker Office Hours
DESCRIPTION:Learn more about job opportunities by visiting the HIC Field Office for Job Seeker Office Hours\, beginning July 30: \nTuesdays and Thursdays\n1 to 3 p.m.\nHIC Field Office\n5115 Race Court\nDenver\, Colo. 80216 \nInterested in learning more? Visit work-now.org or reach out to Jocelyn Robinson at jrobinson@cccpi.net or 303-619-2589. 
URL:https://nationalwesterncenter.com/event/hic-job-seeker-office-hours-2019-08-01-2/2019-11-05/
LOCATION:HIC Program Office\, 5115 Race Court\, Denver\, CO\, 80216\, United States
END:VEVENT
BEGIN:VEVENT
DTSTART;TZID=America/Denver:20191105T130000
DTEND;TZID=America/Denver:20191105T150000
DTSTAMP:20260425T175434
CREATED:20190703T193511Z
LAST-MODIFIED:20190703T193511Z
UID:10003242-1572958800-1572966000@nationalwesterncenter.com
SUMMARY:HIC Job Seeker Office Hours
DESCRIPTION:Learn more about job opportunities by visiting the HIC Field Office for Job Seeker Office Hours\, beginning July 30: \nTuesdays and Thursdays\n1 to 3 p.m.\nHIC Field Office\n5115 Race Court\nDenver\, Colo. 80216 \nInterested in learning more? Visit work-now.org or reach out to Jocelyn Robinson at jrobinson@cccpi.net or 303-619-2589. 
URL:https://nationalwesterncenter.com/event/hic-job-seeker-office-hours-2019-08-06-2/2019-11-05/
LOCATION:HIC Program Office\, 5115 Race Court\, Denver\, CO\, 80216\, United States
END:VEVENT
BEGIN:VEVENT
DTSTART;TZID=America/Denver:20191105T130000
DTEND;TZID=America/Denver:20191105T150000
DTSTAMP:20260425T175434
CREATED:20190703T193511Z
LAST-MODIFIED:20190703T193511Z
UID:10003290-1572958800-1572966000@nationalwesterncenter.com
SUMMARY:HIC Job Seeker Office Hours
DESCRIPTION:Learn more about job opportunities by visiting the HIC Field Office for Job Seeker Office Hours\, beginning July 30: \nTuesdays and Thursdays\n1 to 3 p.m.\nHIC Field Office\n5115 Race Court\nDenver\, Colo. 80216 \nInterested in learning more? Visit work-now.org or reach out to Jocelyn Robinson at jrobinson@cccpi.net or 303-619-2589. 
URL:https://nationalwesterncenter.com/event/hic-job-seeker-office-hours-2019-08-08-2/2019-11-05/
LOCATION:HIC Program Office\, 5115 Race Court\, Denver\, CO\, 80216\, United States
END:VEVENT
BEGIN:VEVENT
DTSTART;TZID=America/Denver:20191105T130000
DTEND;TZID=America/Denver:20191105T150000
DTSTAMP:20260425T175434
CREATED:20190703T193511Z
LAST-MODIFIED:20190703T193511Z
UID:10003331-1572958800-1572966000@nationalwesterncenter.com
SUMMARY:HIC Job Seeker Office Hours
DESCRIPTION:Learn more about job opportunities by visiting the HIC Field Office for Job Seeker Office Hours\, beginning July 30: \nTuesdays and Thursdays\n1 to 3 p.m.\nHIC Field Office\n5115 Race Court\nDenver\, Colo. 80216 \nInterested in learning more? Visit work-now.org or reach out to Jocelyn Robinson at jrobinson@cccpi.net or 303-619-2589. 
URL:https://nationalwesterncenter.com/event/hic-job-seeker-office-hours-2019-08-13-2/2019-11-05/
LOCATION:HIC Program Office\, 5115 Race Court\, Denver\, CO\, 80216\, United States
END:VEVENT
BEGIN:VEVENT
DTSTART;TZID=America/Denver:20191105T130000
DTEND;TZID=America/Denver:20191105T150000
DTSTAMP:20260425T175434
CREATED:20190703T193511Z
LAST-MODIFIED:20190703T193511Z
UID:10003369-1572958800-1572966000@nationalwesterncenter.com
SUMMARY:HIC Job Seeker Office Hours
DESCRIPTION:Learn more about job opportunities by visiting the HIC Field Office for Job Seeker Office Hours\, beginning July 30: \nTuesdays and Thursdays\n1 to 3 p.m.\nHIC Field Office\n5115 Race Court\nDenver\, Colo. 80216 \nInterested in learning more? Visit work-now.org or reach out to Jocelyn Robinson at jrobinson@cccpi.net or 303-619-2589. 
URL:https://nationalwesterncenter.com/event/hic-job-seeker-office-hours-2019-08-15-2/2019-11-05/
LOCATION:HIC Program Office\, 5115 Race Court\, Denver\, CO\, 80216\, United States
END:VEVENT
BEGIN:VEVENT
DTSTART;TZID=America/Denver:20191105T130000
DTEND;TZID=America/Denver:20191105T150000
DTSTAMP:20260425T175434
CREATED:20190703T193511Z
LAST-MODIFIED:20190703T193511Z
UID:10003406-1572958800-1572966000@nationalwesterncenter.com
SUMMARY:HIC Job Seeker Office Hours
DESCRIPTION:Learn more about job opportunities by visiting the HIC Field Office for Job Seeker Office Hours\, beginning July 30: \nTuesdays and Thursdays\n1 to 3 p.m.\nHIC Field Office\n5115 Race Court\nDenver\, Colo. 80216 \nInterested in learning more? Visit work-now.org or reach out to Jocelyn Robinson at jrobinson@cccpi.net or 303-619-2589. 
URL:https://nationalwesterncenter.com/event/hic-job-seeker-office-hours-2019-08-20-2/2019-11-05/
LOCATION:HIC Program Office\, 5115 Race Court\, Denver\, CO\, 80216\, United States
END:VEVENT
BEGIN:VEVENT
DTSTART;TZID=America/Denver:20191105T130000
DTEND;TZID=America/Denver:20191105T150000
DTSTAMP:20260425T175434
CREATED:20190703T193511Z
LAST-MODIFIED:20190703T193511Z
UID:10003441-1572958800-1572966000@nationalwesterncenter.com
SUMMARY:HIC Job Seeker Office Hours
DESCRIPTION:Learn more about job opportunities by visiting the HIC Field Office for Job Seeker Office Hours\, beginning July 30: \nTuesdays and Thursdays\n1 to 3 p.m.\nHIC Field Office\n5115 Race Court\nDenver\, Colo. 80216 \nInterested in learning more? Visit work-now.org or reach out to Jocelyn Robinson at jrobinson@cccpi.net or 303-619-2589. 
URL:https://nationalwesterncenter.com/event/hic-job-seeker-office-hours-2019-08-22-2/2019-11-05/
LOCATION:HIC Program Office\, 5115 Race Court\, Denver\, CO\, 80216\, United States
END:VEVENT
BEGIN:VEVENT
DTSTART;TZID=America/Denver:20191105T130000
DTEND;TZID=America/Denver:20191105T150000
DTSTAMP:20260425T175434
CREATED:20190703T193511Z
LAST-MODIFIED:20190703T193511Z
UID:10003475-1572958800-1572966000@nationalwesterncenter.com
SUMMARY:HIC Job Seeker Office Hours
DESCRIPTION:Learn more about job opportunities by visiting the HIC Field Office for Job Seeker Office Hours\, beginning July 30: \nTuesdays and Thursdays\n1 to 3 p.m.\nHIC Field Office\n5115 Race Court\nDenver\, Colo. 80216 \nInterested in learning more? Visit work-now.org or reach out to Jocelyn Robinson at jrobinson@cccpi.net or 303-619-2589. 
URL:https://nationalwesterncenter.com/event/hic-job-seeker-office-hours-2019-08-27-2/2019-11-05/
LOCATION:HIC Program Office\, 5115 Race Court\, Denver\, CO\, 80216\, United States
END:VEVENT
BEGIN:VEVENT
DTSTART;TZID=America/Denver:20191105T130000
DTEND;TZID=America/Denver:20191105T150000
DTSTAMP:20260425T175434
CREATED:20190703T193511Z
LAST-MODIFIED:20190703T193511Z
UID:10003508-1572958800-1572966000@nationalwesterncenter.com
SUMMARY:HIC Job Seeker Office Hours
DESCRIPTION:Learn more about job opportunities by visiting the HIC Field Office for Job Seeker Office Hours\, beginning July 30: \nTuesdays and Thursdays\n1 to 3 p.m.\nHIC Field Office\n5115 Race Court\nDenver\, Colo. 80216 \nInterested in learning more? Visit work-now.org or reach out to Jocelyn Robinson at jrobinson@cccpi.net or 303-619-2589. 
URL:https://nationalwesterncenter.com/event/hic-job-seeker-office-hours-2019-08-29-2/2019-11-05/
LOCATION:HIC Program Office\, 5115 Race Court\, Denver\, CO\, 80216\, United States
END:VEVENT
BEGIN:VEVENT
DTSTART;TZID=America/Denver:20191105T130000
DTEND;TZID=America/Denver:20191105T150000
DTSTAMP:20260425T175434
CREATED:20190703T193511Z
LAST-MODIFIED:20190703T193511Z
UID:10003540-1572958800-1572966000@nationalwesterncenter.com
SUMMARY:HIC Job Seeker Office Hours
DESCRIPTION:Learn more about job opportunities by visiting the HIC Field Office for Job Seeker Office Hours\, beginning July 30: \nTuesdays and Thursdays\n1 to 3 p.m.\nHIC Field Office\n5115 Race Court\nDenver\, Colo. 80216 \nInterested in learning more? Visit work-now.org or reach out to Jocelyn Robinson at jrobinson@cccpi.net or 303-619-2589. 
URL:https://nationalwesterncenter.com/event/hic-job-seeker-office-hours-2019-09-03-2/2019-11-05/
LOCATION:HIC Program Office\, 5115 Race Court\, Denver\, CO\, 80216\, United States
END:VEVENT
BEGIN:VEVENT
DTSTART;TZID=America/Denver:20191105T130000
DTEND;TZID=America/Denver:20191105T150000
DTSTAMP:20260425T175434
CREATED:20191003T171908Z
LAST-MODIFIED:20191003T171908Z
UID:10002670-1572958800-1572966000@nationalwesterncenter.com
SUMMARY:HIC Job Seeker Office Hours
DESCRIPTION:Learn more about job opportunities by visiting the HIC Field Office for Job Seeker Office Hours: \nTuesdays and Thursdays\n1 to 3 p.m.\nHIC Field Office\n5115 Race Court\nDenver\, Colo. 80216 \nInterested in learning more? Visit work-now.org or reach out to Jocelyn Robinson at jrobinson@cccpi.net or 303-619-2589.
URL:https://nationalwesterncenter.com/event/hic-job-seeker-office-hours-10/
LOCATION:HIC Program Office\, 5115 Race Ct.\, Denver\, CO\, 80216\, United States
ORGANIZER;CN="Hensel Phelps/HIC":MAILTO:kbonde@henselphelps.com
END:VEVENT
BEGIN:VEVENT
DTSTART;TZID=America/Denver:20191105T130000
DTEND;TZID=America/Denver:20191105T150000
DTSTAMP:20260425T175434
CREATED:20191003T171908Z
LAST-MODIFIED:20191003T171908Z
UID:10003566-1572958800-1572966000@nationalwesterncenter.com
SUMMARY:HIC Job Seeker Office Hours
DESCRIPTION:Learn more about job opportunities by visiting the HIC Field Office for Job Seeker Office Hours: \nTuesdays and Thursdays\n1 to 3 p.m.\nHIC Field Office\n5115 Race Court\nDenver\, Colo. 80216 \nInterested in learning more? Visit work-now.org or reach out to Jocelyn Robinson at jrobinson@cccpi.net or 303-619-2589.
URL:https://nationalwesterncenter.com/event/hic-job-seeker-office-hours-10-2/
LOCATION:HIC Program Office\, 5115 Race Ct.\, Denver\, CO\, 80216\, United States
ORGANIZER;CN="Hensel Phelps/HIC":MAILTO:kbonde@henselphelps.com
END:VEVENT
BEGIN:VEVENT
DTSTART;TZID=America/Denver:20191107T130000
DTEND;TZID=America/Denver:20191107T150000
DTSTAMP:20260425T175434
CREATED:20190703T193511Z
LAST-MODIFIED:20190703T193511Z
UID:10002804-1573131600-1573138800@nationalwesterncenter.com
SUMMARY:HIC Job Seeker Office Hours
DESCRIPTION:Learn more about job opportunities by visiting the HIC Field Office for Job Seeker Office Hours\, beginning July 30: \nTuesdays and Thursdays\n1 to 3 p.m.\nHIC Field Office\n5115 Race Court\nDenver\, Colo. 80216 \nInterested in learning more? Visit work-now.org or reach out to Jocelyn Robinson at jrobinson@cccpi.net or 303-619-2589. 
URL:https://nationalwesterncenter.com/event/hic-job-seeker-office-hours-2019-09-05-2/2019-11-07/
LOCATION:HIC Program Office\, 5115 Race Court\, Denver\, CO\, 80216\, United States
END:VEVENT
BEGIN:VEVENT
DTSTART;TZID=America/Denver:20191107T130000
DTEND;TZID=America/Denver:20191107T150000
DTSTAMP:20260425T175434
CREATED:20190703T193511Z
LAST-MODIFIED:20190703T193511Z
UID:10002835-1573131600-1573138800@nationalwesterncenter.com
SUMMARY:HIC Job Seeker Office Hours
DESCRIPTION:Learn more about job opportunities by visiting the HIC Field Office for Job Seeker Office Hours\, beginning July 30: \nTuesdays and Thursdays\n1 to 3 p.m.\nHIC Field Office\n5115 Race Court\nDenver\, Colo. 80216 \nInterested in learning more? Visit work-now.org or reach out to Jocelyn Robinson at jrobinson@cccpi.net or 303-619-2589. 
URL:https://nationalwesterncenter.com/event/hic-job-seeker-office-hours-2019-09-10-2/2019-11-07/
LOCATION:HIC Program Office\, 5115 Race Court\, Denver\, CO\, 80216\, United States
END:VEVENT
BEGIN:VEVENT
DTSTART;TZID=America/Denver:20191107T130000
DTEND;TZID=America/Denver:20191107T150000
DTSTAMP:20260425T175434
CREATED:20190703T193511Z
LAST-MODIFIED:20190703T193511Z
UID:10002866-1573131600-1573138800@nationalwesterncenter.com
SUMMARY:HIC Job Seeker Office Hours
DESCRIPTION:Learn more about job opportunities by visiting the HIC Field Office for Job Seeker Office Hours\, beginning July 30: \nTuesdays and Thursdays\n1 to 3 p.m.\nHIC Field Office\n5115 Race Court\nDenver\, Colo. 80216 \nInterested in learning more? Visit work-now.org or reach out to Jocelyn Robinson at jrobinson@cccpi.net or 303-619-2589. 
URL:https://nationalwesterncenter.com/event/hic-job-seeker-office-hours-2019-09-12-2/2019-11-07/
LOCATION:HIC Program Office\, 5115 Race Court\, Denver\, CO\, 80216\, United States
END:VEVENT
BEGIN:VEVENT
DTSTART;TZID=America/Denver:20191107T130000
DTEND;TZID=America/Denver:20191107T150000
DTSTAMP:20260425T175434
CREATED:20190703T193511Z
LAST-MODIFIED:20190703T193511Z
UID:10002895-1573131600-1573138800@nationalwesterncenter.com
SUMMARY:HIC Job Seeker Office Hours
DESCRIPTION:Learn more about job opportunities by visiting the HIC Field Office for Job Seeker Office Hours\, beginning July 30: \nTuesdays and Thursdays\n1 to 3 p.m.\nHIC Field Office\n5115 Race Court\nDenver\, Colo. 80216 \nInterested in learning more? Visit work-now.org or reach out to Jocelyn Robinson at jrobinson@cccpi.net or 303-619-2589. 
URL:https://nationalwesterncenter.com/event/hic-job-seeker-office-hours-2019-09-17-2/2019-11-07/
LOCATION:HIC Program Office\, 5115 Race Court\, Denver\, CO\, 80216\, United States
END:VEVENT
BEGIN:VEVENT
DTSTART;TZID=America/Denver:20191107T130000
DTEND;TZID=America/Denver:20191107T150000
DTSTAMP:20260425T175434
CREATED:20190703T193511Z
LAST-MODIFIED:20190703T193511Z
UID:10002923-1573131600-1573138800@nationalwesterncenter.com
SUMMARY:HIC Job Seeker Office Hours
DESCRIPTION:Learn more about job opportunities by visiting the HIC Field Office for Job Seeker Office Hours\, beginning July 30: \nTuesdays and Thursdays\n1 to 3 p.m.\nHIC Field Office\n5115 Race Court\nDenver\, Colo. 80216 \nInterested in learning more? Visit work-now.org or reach out to Jocelyn Robinson at jrobinson@cccpi.net or 303-619-2589. 
URL:https://nationalwesterncenter.com/event/hic-job-seeker-office-hours-2019-09-19-2/2019-11-07/
LOCATION:HIC Program Office\, 5115 Race Court\, Denver\, CO\, 80216\, United States
END:VEVENT
BEGIN:VEVENT
DTSTART;TZID=America/Denver:20191107T130000
DTEND;TZID=America/Denver:20191107T150000
DTSTAMP:20260425T175434
CREATED:20190703T193511Z
LAST-MODIFIED:20190703T193511Z
UID:10002950-1573131600-1573138800@nationalwesterncenter.com
SUMMARY:HIC Job Seeker Office Hours
DESCRIPTION:Learn more about job opportunities by visiting the HIC Field Office for Job Seeker Office Hours\, beginning July 30: \nTuesdays and Thursdays\n1 to 3 p.m.\nHIC Field Office\n5115 Race Court\nDenver\, Colo. 80216 \nInterested in learning more? Visit work-now.org or reach out to Jocelyn Robinson at jrobinson@cccpi.net or 303-619-2589. 
URL:https://nationalwesterncenter.com/event/hic-job-seeker-office-hours-2019-09-24-2/2019-11-07/
LOCATION:HIC Program Office\, 5115 Race Court\, Denver\, CO\, 80216\, United States
END:VEVENT
BEGIN:VEVENT
DTSTART;TZID=America/Denver:20191107T130000
DTEND;TZID=America/Denver:20191107T150000
DTSTAMP:20260425T175434
CREATED:20190703T193511Z
LAST-MODIFIED:20190703T193511Z
UID:10002976-1573131600-1573138800@nationalwesterncenter.com
SUMMARY:HIC Job Seeker Office Hours
DESCRIPTION:Learn more about job opportunities by visiting the HIC Field Office for Job Seeker Office Hours\, beginning July 30: \nTuesdays and Thursdays\n1 to 3 p.m.\nHIC Field Office\n5115 Race Court\nDenver\, Colo. 80216 \nInterested in learning more? Visit work-now.org or reach out to Jocelyn Robinson at jrobinson@cccpi.net or 303-619-2589. 
URL:https://nationalwesterncenter.com/event/hic-job-seeker-office-hours-2019-09-26-2/2019-11-07/
LOCATION:HIC Program Office\, 5115 Race Court\, Denver\, CO\, 80216\, United States
END:VEVENT
BEGIN:VEVENT
DTSTART;TZID=America/Denver:20191107T130000
DTEND;TZID=America/Denver:20191107T150000
DTSTAMP:20260425T175434
CREATED:20190703T193511Z
LAST-MODIFIED:20190703T193511Z
UID:10003001-1573131600-1573138800@nationalwesterncenter.com
SUMMARY:HIC Job Seeker Office Hours
DESCRIPTION:Learn more about job opportunities by visiting the HIC Field Office for Job Seeker Office Hours\, beginning July 30: \nTuesdays and Thursdays\n1 to 3 p.m.\nHIC Field Office\n5115 Race Court\nDenver\, Colo. 80216 \nInterested in learning more? Visit work-now.org or reach out to Jocelyn Robinson at jrobinson@cccpi.net or 303-619-2589. 
URL:https://nationalwesterncenter.com/event/hic-job-seeker-office-hours-2019-10-01-2/2019-11-07/
LOCATION:HIC Program Office\, 5115 Race Court\, Denver\, CO\, 80216\, United States
END:VEVENT
BEGIN:VEVENT
DTSTART;TZID=America/Denver:20191107T130000
DTEND;TZID=America/Denver:20191107T150000
DTSTAMP:20260425T175434
CREATED:20190703T193511Z
LAST-MODIFIED:20190703T193511Z
UID:10003203-1573131600-1573138800@nationalwesterncenter.com
SUMMARY:HIC Job Seeker Office Hours
DESCRIPTION:Learn more about job opportunities by visiting the HIC Field Office for Job Seeker Office Hours\, beginning July 30: \nTuesdays and Thursdays\n1 to 3 p.m.\nHIC Field Office\n5115 Race Court\nDenver\, Colo. 80216 \nInterested in learning more? Visit work-now.org or reach out to Jocelyn Robinson at jrobinson@cccpi.net or 303-619-2589. 
URL:https://nationalwesterncenter.com/event/hic-job-seeker-office-hours-2019-08-01-2/2019-11-07/
LOCATION:HIC Program Office\, 5115 Race Court\, Denver\, CO\, 80216\, United States
END:VEVENT
BEGIN:VEVENT
DTSTART;TZID=America/Denver:20191107T130000
DTEND;TZID=America/Denver:20191107T150000
DTSTAMP:20260425T175434
CREATED:20190703T193511Z
LAST-MODIFIED:20190703T193511Z
UID:10003243-1573131600-1573138800@nationalwesterncenter.com
SUMMARY:HIC Job Seeker Office Hours
DESCRIPTION:Learn more about job opportunities by visiting the HIC Field Office for Job Seeker Office Hours\, beginning July 30: \nTuesdays and Thursdays\n1 to 3 p.m.\nHIC Field Office\n5115 Race Court\nDenver\, Colo. 80216 \nInterested in learning more? Visit work-now.org or reach out to Jocelyn Robinson at jrobinson@cccpi.net or 303-619-2589. 
URL:https://nationalwesterncenter.com/event/hic-job-seeker-office-hours-2019-08-06-2/2019-11-07/
LOCATION:HIC Program Office\, 5115 Race Court\, Denver\, CO\, 80216\, United States
END:VEVENT
END:VCALENDAR