BEGIN:VCALENDAR
VERSION:2.0
PRODID:-//National Western Center - ECPv6.15.16//NONSGML v1.0//EN
CALSCALE:GREGORIAN
METHOD:PUBLISH
X-ORIGINAL-URL:https://nationalwesterncenter.com
X-WR-CALDESC:Events for National Western Center
REFRESH-INTERVAL;VALUE=DURATION:PT1H
X-Robots-Tag:noindex
X-PUBLISHED-TTL:PT1H
BEGIN:VTIMEZONE
TZID:America/Denver
BEGIN:DAYLIGHT
TZOFFSETFROM:-0700
TZOFFSETTO:-0600
TZNAME:MDT
DTSTART:20210314T090000
END:DAYLIGHT
BEGIN:STANDARD
TZOFFSETFROM:-0600
TZOFFSETTO:-0700
TZNAME:MST
DTSTART:20211107T080000
END:STANDARD
BEGIN:DAYLIGHT
TZOFFSETFROM:-0700
TZOFFSETTO:-0600
TZNAME:MDT
DTSTART:20220313T090000
END:DAYLIGHT
BEGIN:STANDARD
TZOFFSETFROM:-0600
TZOFFSETTO:-0700
TZNAME:MST
DTSTART:20221106T080000
END:STANDARD
BEGIN:DAYLIGHT
TZOFFSETFROM:-0700
TZOFFSETTO:-0600
TZNAME:MDT
DTSTART:20230312T090000
END:DAYLIGHT
BEGIN:STANDARD
TZOFFSETFROM:-0600
TZOFFSETTO:-0700
TZNAME:MST
DTSTART:20231105T080000
END:STANDARD
BEGIN:DAYLIGHT
TZOFFSETFROM:-0700
TZOFFSETTO:-0600
TZNAME:MDT
DTSTART:20240310T090000
END:DAYLIGHT
BEGIN:STANDARD
TZOFFSETFROM:-0600
TZOFFSETTO:-0700
TZNAME:MST
DTSTART:20241103T080000
END:STANDARD
END:VTIMEZONE
BEGIN:VEVENT
DTSTART;VALUE=DATE:20230107
DTEND;VALUE=DATE:20230123
DTSTAMP:20260425T061323
CREATED:20210602T161255Z
LAST-MODIFIED:20230117T215307Z
UID:10003640-1673049600-1674431999@nationalwesterncenter.com
SUMMARY:National Western Stock Show
DESCRIPTION:The National Western Stock Show is hosted mainly at the National Western Complex. Visit the Stock Show’s website\, www.nationalwestern.com\, for more information on the events.
URL:https://nationalwesterncenter.com/event/national-western-stock-show/
LOCATION:CO
CATEGORIES:Programs
ATTACH;FMTTYPE=image/jpeg:https://nationalwesterncenter.com/wp-content/uploads/2021/06/ec869c81-b0c0-49a7-ae7c-5688df0b29fd_1140x641.jpeg
END:VEVENT
BEGIN:VEVENT
DTSTART;TZID=America/Denver:20221211T093000
DTEND;TZID=America/Denver:20221211T110000
DTSTAMP:20260425T061323
CREATED:20221207T183435Z
LAST-MODIFIED:20221207T183435Z
UID:10003693-1670751000-1670756400@nationalwesterncenter.com
SUMMARY:Tiny Tots: Christmas at the Stockyards Event Center
DESCRIPTION:Christmas: Families will enjoy their favorite holiday music along with the orchestra and special guests including singalongs\, musical appearances from favorite holiday characters\, and traditional orchestral works alongside holiday pop favorites. \nThese programs include an immersive concert\, performances by guest artists\, and meet and greet time with the musicians after the concert. \nWe are deeply committed to equity and access in the orchestra space. If you cannot afford our ticket price and want to request discounted or free tickets\, fill out this form.
URL:https://nationalwesterncenter.com/event/tiny-tots-christmas-at-the-stockyards-event-center/
LOCATION:CO
CATEGORIES:Programs
ATTACH;FMTTYPE=image/png:https://nationalwesterncenter.com/wp-content/uploads/2022/12/MicrosoftTeams-image-22-_C9E07865-AD02-61C1-3D7B488969E24717_ca01deec-fb59-3bd2-82a7b555cfd524ef.png
END:VEVENT
BEGIN:VEVENT
DTSTART;TZID=America/Denver:20221210T120000
DTEND;TZID=America/Denver:20221210T170000
DTSTAMP:20260425T061323
CREATED:20221118T212755Z
LAST-MODIFIED:20221207T183135Z
UID:10003691-1670673600-1670691600@nationalwesterncenter.com
SUMMARY:Munchies and Mimosas
DESCRIPTION:Join Munchies and Mimosas for what’s considered the hottest brunch event in the country. They are back with a crowd favorite – Ugly Xmas Party. For tickets visit: https://events.eventnoire.com/e/munchies-and-mimosas-munchies-after-next-ugly-xmas
URL:https://nationalwesterncenter.com/event/brunch-fest-munchies-and-mimosas/
LOCATION:CO
CATEGORIES:Programs
ATTACH;FMTTYPE=image/jpeg:https://nationalwesterncenter.com/wp-content/uploads/2022/11/8c21b8719949a09d861a2aa780de8852.jpg
END:VEVENT
BEGIN:VEVENT
DTSTART;TZID=America/Denver:20221210T093000
DTEND;TZID=America/Denver:20221210T150000
DTSTAMP:20260425T061323
CREATED:20221207T183929Z
LAST-MODIFIED:20221207T183929Z
UID:10003694-1670664600-1670684400@nationalwesterncenter.com
SUMMARY:Building GES Neighborhoods Health & Resilience: Climate & Environment Summit
DESCRIPTION:At this kick-off event\, we hope to bring together over 30 residents from the Globeville\, Elyria\, and Swansea (GES) neighborhoods as community consultants to create a vision and climate action focus areas for GES. We will hold short presentations by community researchers and a discussion of existing resources and efforts through exhibitor booths by community organizations to provide needed background information. We will then facilitate a discussion around community visioning of a healthier\, more resilient neighborhood\, and identification of 4-6 priority areas\, which will be used as the basis of action planning. This is the first of three phases. The next two phases will involve climate action planning to reach neighborhood goals established by residents\, as well as peer sharing and resource exchange. Participants for the session need to be current GES residents\, 16 or older and participate for the full event. They will be compensated for their ideas and time. Doors open at 9:30am and the event is from 10am to 3pm on Saturday\, December 10\, 2022. \nEn este evento inicial\, esperamos juntar aproximadamente 30 residentes de los vecindarios de Globeville\, Elyria y Swansea (GES) como consultores comunitarios para crear una visión y áreas de acción relacionadas al cambio climático. Vamos a empezar la sesión con presentaciones breves por investigadores comunitarios y una discusión sobre recursos y esfuerzos que existen en GES a través de exposiciones por organizaciones comunitarias. Luego la sesión incluirá una discusión facilitada para crear una visión comunitaria de GES más resiliente y saludable\, y también para identificar 4-6 áreas de prioridad. Esta sesión es la primera de tres sesiones. Las siguientes dos incluirán la planificación de acción climática para alcanzar las metas establecidas por residentes\, y también el intercambio de recursos e ideas entre residentes. Los participantes de la sesión necesitan ser residentes actuales de GES\, tener por lo menos 16 años\, y participar en todo el evento. Los participantes serán compensados por su tiempo y planificación. Las puertas abren a las 9:30 de la mañana\, y el evento será de 10 de la mañana a las 3 de la tarde.
URL:https://nationalwesterncenter.com/event/building-ges-neighborhoods-health-resilience-climate-environment-summit/
LOCATION:Stockyards Event Center  5004 National Western Drive  Denver\, CO 80216\, 5004 National Western Drive\, Denver\, CO 80216\, CO\, 80216\, United States
CATEGORIES:Programs
ATTACH;FMTTYPE=image/png:https://nationalwesterncenter.com/wp-content/uploads/2022/12/Summit.png
END:VEVENT
BEGIN:VEVENT
DTSTART;TZID=America/Denver:20221119T100000
DTEND;TZID=America/Denver:20221120T170000
DTSTAMP:20260425T061323
CREATED:20221110T175522Z
LAST-MODIFIED:20221110T175600Z
UID:10003690-1668852000-1668963600@nationalwesterncenter.com
SUMMARY:Sugar Plum Bazaar
DESCRIPTION:A local artisan market featuring over 100 local artisans and businesses at the New Stockyards Event Center. More information can be found: sugarplumbazaar.com \n 
URL:https://nationalwesterncenter.com/event/sugar-plum-bazaar/
LOCATION:Stockyards Event Center  5004 National Western Drive  Denver\, CO 80216\, 5004 National Western Drive\, Denver\, CO 80216\, CO\, 80216\, United States
CATEGORIES:Programs
ATTACH;FMTTYPE=image/png:https://nationalwesterncenter.com/wp-content/uploads/2022/11/Sugar-Plum.png
END:VEVENT
BEGIN:VEVENT
DTSTART;TZID=America/Denver:20221102T080000
DTEND;TZID=America/Denver:20221104T170000
DTSTAMP:20260425T061323
CREATED:20221004T215315Z
LAST-MODIFIED:20221004T215642Z
UID:10003104-1667376000-1667581200@nationalwesterncenter.com
SUMMARY:Regenerate Conference
DESCRIPTION:The Quivira Coalition\, Holistic Management International\, and the American Grassfed Association collaborate each year to convene ranchers\, farmers\, conservationists\, land managers\, scientists\, and thought leaders to share knowledge\, build community\, and create a culture of resilience and regeneration. \nThis year we are excited to explore the intersections of ecology and economy through the lenses of agriculture\, science\, conservation\, economics\, racial justice\, policy\, and culture. Leading up to our conference\, we will host a month-long series of events including a virtual workshop week and field days throughout the western US. These events will culminate in REGENERATE 2022\, our hybrid conference that will take place November 2-4\, 2022\, in person at the National Western Center in Denver\, CO and online for virtual attendees. \nJoin us at REGENERATE 2022 as we co-create a vision of working together to foster restorative systems and implement practices that better serve our planet and our communities. We invite you to contribute your energy and ideas to the conversation at this year’s convening\, Cultivating Restorative Economies. Register here: https://regenerateconference.com/registration/
URL:https://nationalwesterncenter.com/event/regenerate-conference/
LOCATION:Stockyards Event Center  5004 National Western Drive  Denver\, CO 80216\, 5004 National Western Drive\, Denver\, CO 80216\, CO\, 80216\, United States
CATEGORIES:Programs
ATTACH;FMTTYPE=image/png:https://nationalwesterncenter.com/wp-content/uploads/2022/10/Regenerate-logo.png
END:VEVENT
BEGIN:VEVENT
DTSTART;TZID=America/Denver:20221029T200000
DTEND;TZID=America/Denver:20221029T200000
DTSTAMP:20260425T061323
CREATED:20221006T193722Z
LAST-MODIFIED:20221006T193722Z
UID:10003108-1667073600-1667073600@nationalwesterncenter.com
SUMMARY:Coloween
DESCRIPTION:Join 5\,000 costumed party-goers at the 13th Annual Coloween\, featuring 50\,000 sq/ft of mind-bending immersive installations\, fantasy and fashion decor\, dozens of interactive performers\, and nationally touring club-style DJs performing mainstream remixes of electronic\, hip-hop\, dance\, and rock. \nColoween is the best Halloween dance party in Colorado with over-the-top festival quality production\, massive stages\, silent disco\, and thousands of costumed attendees vetting to win this year’s $1000 Costume Contest and newly added $1000 Celebrity Impersonator Contest. \nPurchase Tickets!
URL:https://nationalwesterncenter.com/event/coloween/
LOCATION:Stockyards Event Center  5004 National Western Drive  Denver\, CO 80216\, 5004 National Western Drive\, Denver\, CO 80216\, CO\, 80216\, United States
CATEGORIES:Programs
ATTACH;FMTTYPE=image/png:https://nationalwesterncenter.com/wp-content/uploads/2022/10/Coloween.png
END:VEVENT
BEGIN:VEVENT
DTSTART;TZID=America/Denver:20220820T173000
DTEND;TZID=America/Denver:20220820T230000
DTSTAMP:20260425T061323
CREATED:20220805T173816Z
LAST-MODIFIED:20220805T173816Z
UID:10003098-1661016600-1661036400@nationalwesterncenter.com
SUMMARY:Fisher and Chris Lake Concert
DESCRIPTION:Chris Lake and Fisher will be performing on Aug. 20th at the NEW National Western Center Yards. Tickets are on sale now: click here.
URL:https://nationalwesterncenter.com/event/fisher-and-chris-lake-concert/
LOCATION:Stockyards Event Center  5004 National Western Drive  Denver\, CO 80216\, 5004 National Western Drive\, Denver\, CO 80216\, CO\, 80216\, United States
CATEGORIES:Programs
ATTACH;FMTTYPE=image/jpeg:https://nationalwesterncenter.com/wp-content/uploads/2022/08/285211050_559364625552053_1286982899722630717_n.jpg
END:VEVENT
BEGIN:VEVENT
DTSTART;TZID=America/Denver:20220625T120000
DTEND;TZID=America/Denver:20220626T210000
DTSTAMP:20260425T061323
CREATED:20220622T191723Z
LAST-MODIFIED:20220713T174406Z
UID:10003089-1656158400-1656277200@nationalwesterncenter.com
SUMMARY:Taco Festival
DESCRIPTION:Join the National Western Center as we host the 2022 Taco Festival\, which will include: \n\nTaco vendors\nChihuahua racing\nLive Lucha Libre\nTequila tasting\n\nJUNE 25-26\, 2022 \n12-9pm Saturday \n12-7pm Sunday
URL:https://nationalwesterncenter.com/event/taco-festival/
LOCATION:CO
CATEGORIES:Programs
END:VEVENT
BEGIN:VEVENT
DTSTART;VALUE=DATE:20220304
DTEND;VALUE=DATE:20220906
DTSTAMP:20260425T061323
CREATED:20211208T152407Z
LAST-MODIFIED:20220726T210908Z
UID:10003683-1646352000-1662422399@nationalwesterncenter.com
SUMMARY:Jurassic World: The Exhibition
DESCRIPTION:The closest you’ll ever come to living dinosaurs! The interactive exhibition immerses audiences of all ages in scenes inspired by the beloved film. \n\nBuy Tickets Here
URL:https://nationalwesterncenter.com/event/jurassic-world-the-exhibition/
LOCATION:CO
CATEGORIES:Programs
ATTACH;FMTTYPE=image/jpeg:https://nationalwesterncenter.com/wp-content/uploads/2021/12/jurassic.jpg
END:VEVENT
END:VCALENDAR